BEGIN:VCALENDAR
VERSION:2.0
PRODID:-//ChamberMaster//Event Calendar 2.0//EN
METHOD:PUBLISH
X-PUBLISHED-TTL:P3D
REFRESH-INTERVAL:P3D
CALSCALE:GREGORIAN
BEGIN:VEVENT
DTSTART:20150502T233000Z
DTEND:20150503T023000Z
X-MICROSOFT-CDO-ALLDAYEVENT:FALSE
SUMMARY:Minden VFW/Legion Fundraiser with Dustin Bogue & Cory Rowe
DESCRIPTION:Date: May 2nd @ 6:30 Location: Minden Opera House Tickets available at MindenOperaHouse.com The Minden Opera House is hosting a Rocky Mountain Oyster Fry fundraiser for American Legion Post 94 & VFW Post 5537 to raise money for the Kearney County Veterans Memorial. The memorial will honor every person in the county who has served in the armed forces. On the main floor the Legion and VFW will be holding the fundraising event. They will have a Rocky Mountain Oyster Fry with the following menu: Bull fries OR pulled pork Chips Beans Bread & Butter FREE WILL DONATIONS ACCEPTED Performing in the theatre will be music by Midwest native and Nashville recording artist Dustin Bogue (of brasher/bogue) along with special guest Cory Presley Rowe (from the Cory Rowe Band). Tickets are just $10 with vets receiving 1/2 price tickets (with ID). Come on out and support a great cause!
X-ALT-DESC;FMTTYPE=text/html:Date: May 2nd @ 6:30 Location: Minden Opera House Tickets available at MindenOperaHouse.com The Minden Opera House is hosting a Rocky Mountain Oyster Fry fundraiser for American Legion Post 94 &amp\; VFW Post 5537 to raise money for the Kearney County Veterans Memorial. The memorial will honor every person in the county who has served in the armed forces. On the main floor the Legion and VFW will be holding the fundraising event. They will have a Rocky Mountain Oyster Fry with the following menu: Bull fries OR pulled pork Chips Beans Bread &amp\; Butter FREE WILL DONATIONS ACCEPTED Performing in the theatre will be music by Midwest native and Nashville recording artist Dustin Bogue (of brasher/bogue) along with special guest Cory Presley Rowe (from the Cory Rowe Band). Tickets are just $10 with vets receiving 1/2 price tickets (with ID). Come on out and support a great cause!
LOCATION:Minden Opera House
UID:e.1404.6190
SEQUENCE:3
DTSTAMP:20260422T182513Z
URL:https://chambermaster.kearneycoc.org/events/details/minden-vfw-legion-fundraiser-with-dustin-bogue-cory-rowe-05-02-2015-6190
END:VEVENT

END:VCALENDAR
