BEGIN:VCALENDAR
VERSION:2.0
PRODID:-//ChamberMaster//Event Calendar 2.0//EN
METHOD:PUBLISH
X-PUBLISHED-TTL:P3D
REFRESH-INTERVAL:P3D
CALSCALE:GREGORIAN
BEGIN:VEVENT
DTSTART;VALUE=DATE:20140913
DTEND;VALUE=DATE:20140914
TRANSP:TRANSPARENT
X-MICROSOFT-CDO-ALLDAYEVENT:TRUE
SUMMARY:Miss Kearney Crane Festival Pageant
DESCRIPTION:The Miss Kearney Crane Festival Pageant will be held in Kearney on September 13\, 2014 at the Merryman Performing Arts Center.\n\n \n\nThe Crane Festival Pageant is a preliminary pageant to the Miss Nebraska and Miss America Organization. The Miss America Organization is one of the nation's leading achievement programs and the world's largest provider of scholarship assistance for young women. Last year\, the Miss America Organization and its state and local organizations made available more than $45 million in cash and scholarship assistance. This assistance is not just for the handful of young women who become Miss America\, but is available to the over 12\,000 young women who compete in the state and local competitions as well.\n\n\n\nThe goal of Kearney's local pageant is to find a young woman who is a positive role model to the young adults of our community. To earn this title\, contestants will have to compete in interview\, on stage question\, talent\, and evening gown. They are also judged on community service and scholastic achievement. We are looking for women who positively represent Kearney at local events and community functions\, and then take community achievements to the state level. We hope to produce poised and sophisticated young women who encourage involvement in the Kearney Area Community.\n\n \n\nThe Pageant will crown a Miss Crane Festival and a Miss Crane Festival's Outstanding Teen. The day will start with rehearsals and preliminary competitions for the Final Pageant which is open to the public and begins at 4:00 p.m. Everyone is welcome to attend. This is a great first time pageant with no experience necessary.  For more information on competing in the Pageant or for tickets to attend\, please contact Shanna Schulte at sschulte@kearneycoc.org.
X-ALT-DESC;FMTTYPE=text/html:<span style="color: rgb(68\, 68\, 68)\; font-family: Arial\, Helvetica\, sans-serif\; font-size: 14px\; line-height: 18.200000762939453px\;">The Miss Kearney Crane Festival Pageant will be held in Kearney on September 13\, 2014 at the Merryman Performing Arts Center.</span><br style="border: none\; border-collapse: separate\; border-image-source: none\; border-image-slice: 100% 1 0\; border-image-repeat: stretch\; border-top-left-radius: 0px\; border-top-right-radius: 0px\; border-bottom-right-radius: 0px\; border-bottom-left-radius: 0px\; bottom: auto\; box-sizing: content-box\; clear: none\; color: rgb(68\, 68\, 68)\; content: normal\; direction: inherit\; display: inline\; empty-cells: show\; float: none\; font-family: Arial\, Helvetica\, sans-serif\; font-size: 14px\; left: auto\; line-height: 18.200000762939453px\; margin: 0px\; max-height: none\; max-width: none\; opacity: 1\; outline: invert none medium\; outline-offset: 0px\; overflow: visible\; padding: 0px\; position: static\; resize: none\; right: auto\; table-layout: auto\; text-justify: inherit\; text-overflow: clip\; top: auto\; vertical-align: baseline\; visibility: inherit\; word-break: inherit\; word-wrap: inherit\; z-index: auto\; height: auto\; width: auto\; background-image: none\; background-attachment: initial\; background-size: initial\; background-origin: initial\; background-clip: initial\; background-position: initial\; background-repeat: initial\;" />\n<span style="color: rgb(68\, 68\, 68)\; font-family: Arial\, Helvetica\, sans-serif\; font-size: 14px\; line-height: 18.200000762939453px\;">&nbsp\;</span><br style="border: none\; border-collapse: separate\; border-image-source: none\; border-image-slice: 100% 1 0\; border-image-repeat: stretch\; border-top-left-radius: 0px\; border-top-right-radius: 0px\; border-bottom-right-radius: 0px\; border-bottom-left-radius: 0px\; bottom: auto\; box-sizing: content-box\; clear: none\; color: rgb(68\, 68\, 68)\; content: normal\; direction: inherit\; display: inline\; empty-cells: show\; float: none\; font-family: Arial\, Helvetica\, sans-serif\; font-size: 14px\; left: auto\; line-height: 18.200000762939453px\; margin: 0px\; max-height: none\; max-width: none\; opacity: 1\; outline: invert none medium\; outline-offset: 0px\; overflow: visible\; padding: 0px\; position: static\; resize: none\; right: auto\; table-layout: auto\; text-justify: inherit\; text-overflow: clip\; top: auto\; vertical-align: baseline\; visibility: inherit\; word-break: inherit\; word-wrap: inherit\; z-index: auto\; height: auto\; width: auto\; background-image: none\; background-attachment: initial\; background-size: initial\; background-origin: initial\; background-clip: initial\; background-position: initial\; background-repeat: initial\;" />\n<span style="color: rgb(68\, 68\, 68)\; font-family: Arial\, Helvetica\, sans-serif\; font-size: 14px\; line-height: 18.200000762939453px\;">The Crane Festival Pageant is a preliminary pageant to the Miss Nebraska and Miss America Organization. The Miss America Organization is one of the nation&#39\;s leading achievement programs and the world&#39\;s largest provider of scholarship assistance for young women. Last year\, the Miss America Organization and its state and local organizations made available more than $45 million in cash and scholarship assistance. This assistance is not just for the handful of young women who become Miss America\, but is available to the over 12\,000 young women who compete in the state and local competitions as well.<br />\n<br />\nThe goal of Kearney&rsquo\;s local pageant is to find a young woman who is a positive role model to the young adults of our community. To earn this title\, contestants will have to compete in interview\, on stage question\, talent\, and evening gown. They are also judged on community service and scholastic achievement. We are looking for women who positively represent Kearney at local events and community functions\, and then take community achievements to the state level. We hope to produce poised and sophisticated young women who encourage involvement in the Kearney Area Community.</span><br style="border: none\; border-collapse: separate\; border-image-source: none\; border-image-slice: 100% 1 0\; border-image-repeat: stretch\; border-top-left-radius: 0px\; border-top-right-radius: 0px\; border-bottom-right-radius: 0px\; border-bottom-left-radius: 0px\; bottom: auto\; box-sizing: content-box\; clear: none\; color: rgb(68\, 68\, 68)\; content: normal\; direction: inherit\; display: inline\; empty-cells: show\; float: none\; font-family: Arial\, Helvetica\, sans-serif\; font-size: 14px\; left: auto\; line-height: 18.200000762939453px\; margin: 0px\; max-height: none\; max-width: none\; opacity: 1\; outline: invert none medium\; outline-offset: 0px\; overflow: visible\; padding: 0px\; position: static\; resize: none\; right: auto\; table-layout: auto\; text-justify: inherit\; text-overflow: clip\; top: auto\; vertical-align: baseline\; visibility: inherit\; word-break: inherit\; word-wrap: inherit\; z-index: auto\; height: auto\; width: auto\; background-image: none\; background-attachment: initial\; background-size: initial\; background-origin: initial\; background-clip: initial\; background-position: initial\; background-repeat: initial\;" />\n<span style="color: rgb(68\, 68\, 68)\; font-family: Arial\, Helvetica\, sans-serif\; font-size: 14px\; line-height: 18.200000762939453px\;">&nbsp\;</span><br style="border: none\; border-collapse: separate\; border-image-source: none\; border-image-slice: 100% 1 0\; border-image-repeat: stretch\; border-top-left-radius: 0px\; border-top-right-radius: 0px\; border-bottom-right-radius: 0px\; border-bottom-left-radius: 0px\; bottom: auto\; box-sizing: content-box\; clear: none\; color: rgb(68\, 68\, 68)\; content: normal\; direction: inherit\; display: inline\; empty-cells: show\; float: none\; font-family: Arial\, Helvetica\, sans-serif\; font-size: 14px\; left: auto\; line-height: 18.200000762939453px\; margin: 0px\; max-height: none\; max-width: none\; opacity: 1\; outline: invert none medium\; outline-offset: 0px\; overflow: visible\; padding: 0px\; position: static\; resize: none\; right: auto\; table-layout: auto\; text-justify: inherit\; text-overflow: clip\; top: auto\; vertical-align: baseline\; visibility: inherit\; word-break: inherit\; word-wrap: inherit\; z-index: auto\; height: auto\; width: auto\; background-image: none\; background-attachment: initial\; background-size: initial\; background-origin: initial\; background-clip: initial\; background-position: initial\; background-repeat: initial\;" />\n<span style="color: rgb(68\, 68\, 68)\; font-family: Arial\, Helvetica\, sans-serif\; font-size: 14px\; line-height: 18.200000762939453px\;">The Pageant will crown a Miss Crane Festival and a Miss Crane Festival&rsquo\;s Outstanding Teen. The day will start with rehearsals and preliminary competitions for the Final Pageant which is open to the public and begins at 4:00 p.m. Everyone is welcome to attend. This is a great first time pageant with no experience necessary.&nbsp\; For more information on competing in the Pageant or for tickets to attend\, please contact Shanna Schulte at&nbsp\;</span><a href="mailto:sschulte@kearneycoc.org" style="border: none\; border-collapse: separate\; border-image-source: none\; border-image-slice: 100% 1 0\; border-image-repeat: stretch\; border-top-left-radius: 0px\; border-top-right-radius: 0px\; border-bottom-right-radius: 0px\; border-bottom-left-radius: 0px\; bottom: auto\; box-sizing: content-box\; clear: none\; color: rgb(34\, 72\, 132)\; content: normal\; direction: inherit\; display: inline\; empty-cells: show\; float: none\; font-family: Arial\, Helvetica\, sans-serif\; font-size: 14px\; left: auto\; line-height: 18.200000762939453px\; margin: 0px\; max-height: none\; max-width: none\; opacity: 1\; outline: invert none medium\; outline-offset: 0px\; overflow: visible\; padding: 0px\; position: static\; resize: none\; right: auto\; table-layout: auto\; text-decoration: none\; text-justify: inherit\; text-overflow: clip\; top: auto\; vertical-align: baseline\; visibility: inherit\; word-break: inherit\; word-wrap: break-word\; z-index: auto\; height: auto\; width: auto\; box-shadow: none\; background-image: none\; background-attachment: initial\; background-size: initial\; background-origin: initial\; background-clip: initial\; background-position: initial\; background-repeat: initial\;">sschulte@kearneycoc.org</a><span style="color: rgb(68\, 68\, 68)\; font-family: Arial\, Helvetica\, sans-serif\; font-size: 14px\; line-height: 18.200000762939453px\;">.</span><br />\n&nbsp\;
LOCATION:Merryman Performing Arts Center 225 W 22nd St Kearney\, NE 68847
UID:e.1404.4422
SEQUENCE:3
DTSTAMP:20260423T090250Z
URL:https://chambermaster.kearneycoc.org/events/details/miss-kearney-crane-festival-pageant-09-13-2014-4422
END:VEVENT

END:VCALENDAR
