BEGIN:VCALENDAR
VERSION:2.0
PRODID:-//ChamberMaster//Event Calendar 2.0//EN
METHOD:PUBLISH
X-PUBLISHED-TTL:P3D
REFRESH-INTERVAL:P3D
CALSCALE:GREGORIAN
BEGIN:VEVENT
DTSTART:20130921T210000Z
DTEND:20130921T230000Z
X-MICROSOFT-CDO-ALLDAYEVENT:FALSE
SUMMARY:Miss Kearney Crane Festival Pageant
DESCRIPTION:Miss Kearney Crane Festival Pageant!  \n\nSaturday\, September 21\n\nMerryman Performing Arts Center\n\n\n\nhttp://www.kearneycoc.org/MissKearneyCraneFestival.aspx
X-ALT-DESC;FMTTYPE=text/html:Miss Kearney Crane Festival Pageant! &nbsp\;<br />\nSaturday\, September 21<br />\nMerryman Performing Arts Center<br />\n<br />\n<a href="http://www.kearneycoc.org/MissKearneyCraneFestival.aspx">http://www.kearneycoc.org/MissKearneyCraneFestival.aspx</a>
LOCATION:
UID:e.1404.3280
SEQUENCE:3
DTSTAMP:20260424T041031Z
URL:https://chambermaster.kearneycoc.org/events/details/miss-kearney-crane-festival-pageant-09-21-2013-3280
END:VEVENT

END:VCALENDAR
