BEGIN:VCALENDAR
VERSION:2.0
PRODID:-//ChamberMaster//Event Calendar 2.0//EN
METHOD:PUBLISH
X-PUBLISHED-TTL:P3D
REFRESH-INTERVAL:P3D
CALSCALE:GREGORIAN
BEGIN:VEVENT
DTSTART:20200221T010000Z
DTEND:20200221T020000Z
X-MICROSOFT-CDO-ALLDAYEVENT:FALSE
SUMMARY:MONA Showcase: UNK String Chamber Ensembles
DESCRIPTION:Join us at MONA as UNK String Chamber Ensembles give a recital.
X-ALT-DESC;FMTTYPE=text/html:Join us at MONA as UNK String Chamber Ensembles give a recital.
LOCATION:MONA
UID:e.1404.18365
SEQUENCE:3
DTSTAMP:20260425T112905Z
URL:https://chambermaster.kearneycoc.org/events/details/mona-showcase-unk-string-chamber-ensembles-18365
END:VEVENT

END:VCALENDAR
