BEGIN:VCALENDAR
VERSION:2.0
PRODID:-//ChamberMaster//Event Calendar 2.0//EN
METHOD:PUBLISH
X-PUBLISHED-TTL:P3D
REFRESH-INTERVAL:P3D
CALSCALE:GREGORIAN
BEGIN:VEVENT
DTSTART:20151211T010000Z
DTEND:20151211T030000Z
X-MICROSOFT-CDO-ALLDAYEVENT:FALSE
SUMMARY:Moscow Ballet's Great Russian Nutcracker
DESCRIPTION:Experience the exquisite artistry of world-class Russian dancers\, playful puppets and the unmatched splendor of hand crafted sets and costumes. Moscow Ballet?s Great Russian Nutcracker is the holiday tradition that brings the Christmas spirit to life! Get your seats now for Tchaikovsky?s masterpiece.
X-ALT-DESC;FMTTYPE=text/html:Experience the exquisite artistry of world-class Russian dancers\, playful puppets and the unmatched splendor of hand crafted sets and costumes. Moscow Ballet?s Great Russian Nutcracker is the holiday tradition that brings the Christmas spirit to life! Get your seats now for Tchaikovsky?s masterpiece.
LOCATION:Merryman Performing Arts Center
UID:e.1404.7049
SEQUENCE:3
DTSTAMP:20260422T083633Z
URL:https://chambermaster.kearneycoc.org/events/details/moscow-ballet-s-great-russian-nutcracker-12-10-2015-7049
END:VEVENT

END:VCALENDAR
