BEGIN:VCALENDAR
VERSION:2.0
PRODID:-//ChamberMaster//Event Calendar 2.0//EN
METHOD:PUBLISH
X-PUBLISHED-TTL:P3D
REFRESH-INTERVAL:P3D
CALSCALE:GREGORIAN
BEGIN:VEVENT
DTSTART:20191124T200000Z
DTEND:20191124T230000Z
X-MICROSOFT-CDO-ALLDAYEVENT:FALSE
SUMMARY:Moscow Ballet - The Great Russian Nutcracker
DESCRIPTION:All ages are invited to celebrate the magic of Christmas with "The Russian Nutcracker" with the Moscow Ballet. Known for their award-winning dancers\, lavish costumes\, backdrops come witness amazing leaps\, spins and extraordinary moves of the company performed to Tchaikovsky's complete and incomparable score. Tickets Available: https://pickmytickets.com/ (308) 698 - 8297
X-ALT-DESC;FMTTYPE=text/html:All ages are invited to celebrate the magic of Christmas with &quot\;The Russian Nutcracker&quot\; with the Moscow Ballet. Known for their award-winning dancers\, lavish costumes\, backdrops come witness amazing leaps\, spins and extraordinary moves of the company performed to Tchaikovsky&#39\;s complete and incomparable score. Tickets Available: https://pickmytickets.com/ (308) 698 - 8297
LOCATION:Merryman Performing Arts Center 225 W 22nd Street Kearney\, NE 68845
UID:e.1404.16634
SEQUENCE:3
DTSTAMP:20260425T163834Z
URL:https://chambermaster.kearneycoc.org/events/details/moscow-ballet-the-great-russian-nutcracker-16634
END:VEVENT

END:VCALENDAR
