BEGIN:VCALENDAR
VERSION:2.0
PRODID:-//ChamberMaster//Event Calendar 2.0//EN
METHOD:PUBLISH
X-PUBLISHED-TTL:P3D
REFRESH-INTERVAL:P3D
CALSCALE:GREGORIAN
BEGIN:VEVENT
DTSTART:20130511T150000Z
DTEND:20130511T180000Z
X-MICROSOFT-CDO-ALLDAYEVENT:FALSE
SUMMARY:Mother's Day Kids workshop
DESCRIPTION:KIDS! Mother's Day is this weekend! Stop in at Builders in Kearney on Saturday\, May 11th from 10am to 1pm for our Kids Mother's Day workshop! Pick out and purchase your favorite plant and pot - we'll provide the soil and help you plant it for the perfect gift for Mom!
X-ALT-DESC;FMTTYPE=text/html:KIDS! Mother&#39\;s Day is this weekend! Stop in at Builders in Kearney on Saturday\, May 11th from 10am to 1pm for our Kids Mother&#39\;s Day workshop! Pick out and purchase your favorite plant and pot - we&#39\;ll provide the soil and help you plant it for the perfect gift for Mom!
LOCATION:Builders 4600 2nd Avenue Kearney
UID:e.1404.3192
SEQUENCE:3
DTSTAMP:20260424T123828Z
URL:https://chambermaster.kearneycoc.org/events/details/mother-s-day-kids-workshop-05-11-2013-3192
END:VEVENT

END:VCALENDAR
