BEGIN:VCALENDAR
VERSION:2.0
PRODID:-//ChamberMaster//Event Calendar 2.0//EN
METHOD:PUBLISH
X-PUBLISHED-TTL:P3D
REFRESH-INTERVAL:P3D
CALSCALE:GREGORIAN
BEGIN:VEVENT
DTSTART:20130622T130000Z
DTEND:20130622T223000Z
X-MICROSOFT-CDO-ALLDAYEVENT:FALSE
SUMMARY:Motorcycle Course Session G- BRC
DESCRIPTION:BRC (Basic Rider Course) - $225 \n\nBRC provides the rider with basic formal instruction. This weekend course is composed of approximately 5-hours of classroom and 10-hours of range instruction\, with motorcycles provided. The course introduces and discusses the motorcycle environment\, risk management\, controls and operation\, fundamental riding skills of shifting\, braking\, and cornering and expands them into more advance street riding techniques. Successful completion of the BRC waives the requirement to take the Nebraska Department of Motor Vehicles (DMV) written examination and road test. It qualifies the student for the motorcycle Endorsement "M" on their operator's license.
X-ALT-DESC;FMTTYPE=text/html:<strong><span>BRC </span></strong><strong><span>(Basic Rider Course)</span></strong><span> </span><span>- <strong>$225</strong></span>&nbsp\;<br />\n<span>BRC provides the rider with basic formal instruction. <span class="style15">This weekend course </span>is composed of approximately 5-hours of classroom and 10-hours of range instruction\, with motorcycles provided.<span class="style15"> </span>The course introduces and discusses the motorcycle environment\, risk management\, controls and operation\,<span class="style15"> fundamental riding skills of shifting\, braking\, and cornering and expands them into more advance street riding techniques.</span> Successful completion of the BRC waives the requirement to take the Nebraska Department of Motor Vehicles (DMV) written examination and road test. It qualifies the student for the motorcycle Endorsement &quot\;M&quot\; on their operator&#39\;s license.&nbsp\; </span>
LOCATION:to register visit: http://www.unk.edu/motorcycle/
UID:e.1404.2474
SEQUENCE:3
DTSTAMP:20260424T101856Z
URL:https://chambermaster.kearneycoc.org/events/details/motorcycle-course-session-g-brc-06-22-2013-2474
END:VEVENT

END:VCALENDAR
