BEGIN:VCALENDAR
VERSION:2.0
PRODID:-//ChamberMaster//Event Calendar 2.0//EN
METHOD:PUBLISH
X-PUBLISHED-TTL:P3D
REFRESH-INTERVAL:P3D
CALSCALE:GREGORIAN
BEGIN:VEVENT
DTSTART;VALUE=DATE:20140822
DTEND;VALUE=DATE:20140823
TRANSP:TRANSPARENT
X-MICROSOFT-CDO-ALLDAYEVENT:TRUE
SUMMARY:Move in Day at UNK
DESCRIPTION:
X-ALT-DESC;FMTTYPE=text/html:
LOCATION:
UID:e.1404.4537
SEQUENCE:3
DTSTAMP:20260423T103700Z
URL:https://chambermaster.kearneycoc.org/events/details/move-in-day-at-unk-08-22-2014-4537
END:VEVENT

END:VCALENDAR
