BEGIN:VCALENDAR
VERSION:2.0
PRODID:-//ChamberMaster//Event Calendar 2.0//EN
METHOD:PUBLISH
X-PUBLISHED-TTL:P3D
REFRESH-INTERVAL:P3D
CALSCALE:GREGORIAN
BEGIN:VEVENT
DTSTART:20130531T160000Z
DTEND:20130531T160000Z
X-MICROSOFT-CDO-ALLDAYEVENT:FALSE
SUMMARY:NAIFA Central Nebraska Yanney Heritage Park Foundation Golf Tournament
DESCRIPTION:4 Person Team - 18 Hole Scramble \n\n\n\nTwo Flights\n\nFlag Prizes\n\nSkill Games\n\nHone-In-One
X-ALT-DESC;FMTTYPE=text/html:4 Person Team - 18 Hole Scramble&nbsp\;<br />\n<br />\nTwo Flights<br />\nFlag Prizes<br />\nSkill Games<br />\nHone-In-One
LOCATION:Meadowlark Hills Golf Course
UID:e.1404.2503
SEQUENCE:3
DTSTAMP:20260424T125153Z
URL:https://chambermaster.kearneycoc.org/events/details/naifa-central-nebraska-yanney-heritage-park-foundation-golf-tournament-05-31-2013-2503
END:VEVENT

END:VCALENDAR
