BEGIN:VCALENDAR
VERSION:2.0
PRODID:-//ChamberMaster//Event Calendar 2.0//EN
METHOD:PUBLISH
X-PUBLISHED-TTL:P3D
REFRESH-INTERVAL:P3D
CALSCALE:GREGORIAN
BEGIN:VEVENT
DTSTART:20160716T150000Z
DTEND:20160716T210000Z
X-MICROSOFT-CDO-ALLDAYEVENT:FALSE
SUMMARY:National Bridal Sale Day
DESCRIPTION:Hello Beautiful Bridal & Formal Wear will be participating in the first annual National Bridal Sample Sale Day! Sample gowns will be discounted 50%-80% off! Don't miss the National Bridal Sample Sale!
X-ALT-DESC;FMTTYPE=text/html:Hello Beautiful Bridal &amp\; Formal Wear will be participating in the first annual National Bridal Sample Sale Day! Sample gowns will be discounted 50%-80% off! Don&#39\;t miss the National Bridal Sample Sale!
LOCATION:Hello Beautiful Bridal & Formal Wear 5012 3rd Avenue\, Suite 150 Kearney\, NE 68845
UID:e.1404.8907
SEQUENCE:3
DTSTAMP:20260421T185553Z
URL:https://chambermaster.kearneycoc.org/events/details/national-bridal-sale-day-07-16-2016-8907
END:VEVENT

END:VCALENDAR
