BEGIN:VCALENDAR
VERSION:2.0
PRODID:-//ChamberMaster//Event Calendar 2.0//EN
METHOD:PUBLISH
X-PUBLISHED-TTL:P3D
REFRESH-INTERVAL:P3D
CALSCALE:GREGORIAN
BEGIN:VEVENT
DTSTART:20210726T170000Z
DTEND:20210726T183000Z
X-MICROSOFT-CDO-ALLDAYEVENT:FALSE
SUMMARY:NE Chamber Listening Tour
DESCRIPTION:Key leaders representing small and large businesses from diverse backgrounds\, local chamber leadership and staff\, NE Chamber president and staff. Interactive workshop and listening session to obtain further business input on post-pandemic challenges to economic growth and opportunity\, as well as game-changing steps to enhance local\, regional\, and state competitiveness\, as well as workforce and economic growth   no media\, just big thinking.
X-ALT-DESC;FMTTYPE=text/html:Key leaders representing small and large businesses from diverse backgrounds\, local chamber leadership and staff\, NE Chamber president and staff. Interactive workshop and listening session to obtain further business input on post-pandemic challenges to economic growth and opportunity\, as well as game-changing steps to enhance local\, regional\, and state competitiveness\, as well as workforce and economic growth &ndash\; no media\, just big thinking.
LOCATION:Chamber Board Room
UID:e.1404.19329
SEQUENCE:3
DTSTAMP:20260424T081305Z
URL:https://chambermaster.kearneycoc.org/events/details/ne-chamber-listening-tour-19329
END:VEVENT

END:VCALENDAR
