BEGIN:VCALENDAR
VERSION:2.0
PRODID:-//ChamberMaster//Event Calendar 2.0//EN
METHOD:PUBLISH
X-PUBLISHED-TTL:P3D
REFRESH-INTERVAL:P3D
CALSCALE:GREGORIAN
BEGIN:VEVENT
DTSTART:20200123T220000Z
DTEND:20200124T000000Z
X-MICROSOFT-CDO-ALLDAYEVENT:FALSE
SUMMARY:Nebraska Arts Council
DESCRIPTION:The first session gives an overview of the grant categories the Nebraska Arts Council currently has to offer\; as well as\, insight into the types of information grant reviewers want when considering grant proposals. The second workshop gives applicants resources and tips to better build a budget within a grant proposal\, as well as\, insight into the types of information grant reviewers want when considering grant proposals.
X-ALT-DESC;FMTTYPE=text/html:The first session gives an overview of the grant categories the Nebraska Arts Council currently has to offer\; as well as\, insight into the types of information grant reviewers want when considering grant proposals. The second workshop gives applicants resources and tips to better build a budget within a grant proposal\, as well as\, insight into the types of information grant reviewers want when considering grant proposals.
LOCATION:Kearney Public Library
UID:e.1404.18311
SEQUENCE:3
DTSTAMP:20260425T132244Z
URL:https://chambermaster.kearneycoc.org/events/details/nebraska-arts-council-18311
END:VEVENT

END:VCALENDAR
