BEGIN:VCALENDAR
VERSION:2.0
PRODID:-//ChamberMaster//Event Calendar 2.0//EN
METHOD:PUBLISH
X-PUBLISHED-TTL:P3D
REFRESH-INTERVAL:P3D
CALSCALE:GREGORIAN
BEGIN:VEVENT
DTSTART:20131222T013000Z
DTEND:20131222T030000Z
X-MICROSOFT-CDO-ALLDAYEVENT:FALSE
SUMMARY:Nebraska Brass
DESCRIPTION:Event:  A Nebraska Brass Christmas Date:  Saturday\, December 21st Time: 7:30 pm  Ticket Price: $16 each (tickets available at MindenOperaHouse.com or by calling 308-832-0588)                  Founded in 1987\, the Nebraska Brass is one of the Midwest's most popular brass quintets.   Audiences young and old enjoy the group's  serious musicianship and light-hearted humor as they present a variety of music ranging from classical to popular\, Dixieland\, and jazz. A staple in the MOH Christmas season\, join the Nebraska Brass as they perform a variety of Christmas tunes in a variety of styles.
X-ALT-DESC;FMTTYPE=text/html:Event: &nbsp\;A Nebraska Brass Christmas Date: &nbsp\;Saturday\, December 21st Time: 7:30 pm&nbsp\; Ticket Price: $16 each (tickets available at MindenOperaHouse.com or by calling 308-832-0588) &nbsp\; &nbsp\; &nbsp\; &nbsp\; &nbsp\; &nbsp\; &nbsp\;&nbsp\; &nbsp\; Founded in 1987\, the Nebraska Brass is one of the Midwest&#39\;s most popular brass quintets. &nbsp\; Audiences young and old enjoy the group&#39\;s &nbsp\;serious musicianship and light-hearted humor as they present a variety of music ranging from classical to popular\, Dixieland\, and jazz. A staple in the MOH Christmas season\, join the Nebraska Brass as they perform a variety of Christmas tunes in a variety of styles.&nbsp\; 
LOCATION:Minden Opera House 322 East 5th Minden\, NE
UID:e.1404.3387
SEQUENCE:3
DTSTAMP:20260423T230957Z
URL:https://chambermaster.kearneycoc.org/events/details/nebraska-brass-12-21-2013-3387
END:VEVENT

END:VCALENDAR
