BEGIN:VCALENDAR
VERSION:2.0
PRODID:-//ChamberMaster//Event Calendar 2.0//EN
METHOD:PUBLISH
X-PUBLISHED-TTL:P3D
REFRESH-INTERVAL:P3D
CALSCALE:GREGORIAN
BEGIN:VEVENT
DTSTART:20160617T190000Z
DTEND:20160619T190000Z
X-MICROSOFT-CDO-ALLDAYEVENT:FALSE
SUMMARY:Nebraska Democratic Party State Convention
DESCRIPTION:Nebraska Democrats are coming to Kearney June 17th-19th. We are offering Sponsorship booths for $250. If your company or organization has any services\, products or information that would be valuable to the Nebraska Democratic Party please feel free to fill out this form to become a sponsor. This is a great opportunity for your business to get exposure to hundreds of Nebraskans. If you have any questions please feel free to contact Joey at 402-434-2180 or at joey@nebraskademocrats.org. Thank you for hosting Nebraska Democrats in Kearney!
X-ALT-DESC;FMTTYPE=text/html:Nebraska Democrats are coming to Kearney June 17th-19th. We are offering Sponsorship booths for $250. If your company or organization has any services\, products or information that would be valuable to the Nebraska Democratic Party please feel free to fill out this form to become a sponsor. This is a great opportunity for your business to get exposure to hundreds of Nebraskans. If you have any questions please feel free to contact Joey at 402-434-2180 or at joey@nebraskademocrats.org. Thank you for hosting Nebraska Democrats in Kearney!
LOCATION:Ramada Inn 301 2nd Ave\, Kearney\, NE 68847
UID:e.1404.8768
SEQUENCE:3
DTSTAMP:20260421T201815Z
URL:https://chambermaster.kearneycoc.org/events/details/nebraska-democratic-party-state-convention-06-17-2016-8768
END:VEVENT

END:VCALENDAR
