BEGIN:VCALENDAR
VERSION:2.0
PRODID:-//ChamberMaster//Event Calendar 2.0//EN
METHOD:PUBLISH
X-PUBLISHED-TTL:P3D
REFRESH-INTERVAL:P3D
CALSCALE:GREGORIAN
BEGIN:VEVENT
DTSTART:20141113T200000Z
DTEND:20141113T220000Z
X-MICROSOFT-CDO-ALLDAYEVENT:FALSE
SUMMARY:Nebraska Department of Revenue - Agriculture Sales Tax Seminar
DESCRIPTION:Nebraska Department of Revenue's\, Margaret Atkin\, will present a seminar on the Legislative changes to the Agriculture Sales Tax Exemption.  \n\n\n\nNovember 13\, 2014\n\n2:00-4:00 p.m.\n\nKearney Public Library\, North & South Platte Rooms\n\nNo fee to attend.
X-ALT-DESC;FMTTYPE=text/html:Nebraska Department of Revenue&#39\;s\, Margaret Atkin\, will present a seminar on the Legislative changes to the Agriculture Sales Tax Exemption. &nbsp\;<br />\n<br />\nNovember 13\, 2014<br />\n2:00-4:00 p.m.<br />\nKearney Public Library\, North &amp\; South Platte Rooms<br />\nNo fee to attend.&nbsp\;
LOCATION:
UID:e.1404.5381
SEQUENCE:3
DTSTAMP:20260423T052331Z
URL:https://chambermaster.kearneycoc.org/events/details/nebraska-department-of-revenue-agriculture-sales-tax-seminar-11-13-2014-5381
END:VEVENT

END:VCALENDAR
