BEGIN:VCALENDAR
VERSION:2.0
PRODID:-//ChamberMaster//Event Calendar 2.0//EN
METHOD:PUBLISH
X-PUBLISHED-TTL:P3D
REFRESH-INTERVAL:P3D
CALSCALE:GREGORIAN
BEGIN:VEVENT
DTSTART;VALUE=DATE:20140916
DTEND;VALUE=DATE:20140917
TRANSP:TRANSPARENT
X-MICROSOFT-CDO-ALLDAYEVENT:TRUE
SUMMARY:Nebraska Department of Revenue - Sales Tax Seminar
DESCRIPTION:Nebraska Department of Revenue\n\nSales Tax Seminar
X-ALT-DESC;FMTTYPE=text/html:Nebraska Department of Revenue<br />\nSales Tax Seminar
LOCATION:University of Nebraska at Kearney Ockinga Seminar Center 2505 20th Ave Kearney\, NE 68849
UID:e.1404.5173
SEQUENCE:3
DTSTAMP:20260423T090249Z
URL:https://chambermaster.kearneycoc.org/events/details/nebraska-department-of-revenue-sales-tax-seminar-09-16-2014-5173
END:VEVENT

END:VCALENDAR
