BEGIN:VCALENDAR
VERSION:2.0
PRODID:-//ChamberMaster//Event Calendar 2.0//EN
METHOD:PUBLISH
X-PUBLISHED-TTL:P3D
REFRESH-INTERVAL:P3D
CALSCALE:GREGORIAN
BEGIN:VEVENT
DTSTART:20161017T210000Z
DTEND:20161017T230000Z
X-MICROSOFT-CDO-ALLDAYEVENT:FALSE
SUMMARY:Nebraska Department of Roads Highway Public Meeting
DESCRIPTION:The Nebraska Department of Roads (NDOR) will hold a public information open house regarding a proposed improvement of Nebraska Link 10C (L-10C) in Buffalo County. The is identified as Gibbon Link\, the proposed project would resurface 2.73 miles of L-10C.
X-ALT-DESC;FMTTYPE=text/html:The Nebraska Department of Roads (NDOR) will hold a public information open house regarding a proposed improvement of Nebraska Link 10C (L-10C) in Buffalo County. The is identified as Gibbon Link\, the proposed project would resurface 2.73 miles of L-10C.
LOCATION:Gibbon Public Library 116 LaBarre St Gibbon\, Nebraska
UID:e.1404.9061
SEQUENCE:3
DTSTAMP:20260421T140742Z
URL:https://chambermaster.kearneycoc.org/events/details/nebraska-department-of-roads-highway-public-meeting-9061
END:VEVENT

END:VCALENDAR
