BEGIN:VCALENDAR
VERSION:2.0
PRODID:-//ChamberMaster//Event Calendar 2.0//EN
METHOD:PUBLISH
X-PUBLISHED-TTL:P3D
REFRESH-INTERVAL:P3D
CALSCALE:GREGORIAN
BEGIN:VEVENT
DTSTART:20190817T140000Z
DTEND:20190818T030000Z
X-MICROSOFT-CDO-ALLDAYEVENT:FALSE
SUMMARY:Nebraska Firefights Museum 10 Year Anniversary
DESCRIPTION:Join the Nebraska Firefighters Museum & Education Center in celebrating their 10 year anniversary along with Smokey Bear's 75th birthday! \n\n\n\nFood from Burning Bush BBQ\, Papa Dean's Smoke Shack\, and Hangries LLC\, featuring local beer and wine from McCue's Taproom. \n\n\n\nConcert by Nicki Rezac\n\nMagic Show by David Fox\, Midwest Mentalist\n\nGames for kids\, cake walks\, bouncy firehouse\, and more!
X-ALT-DESC;FMTTYPE=text/html:Join the Nebraska Firefighters Museum &amp\; Education Center in celebrating their 10 year anniversary along with Smokey Bear&#39\;s 75th birthday!&nbsp\;<br />\n<br />\nFood from Burning Bush BBQ\, Papa Dean&#39\;s Smoke Shack\, and Hangries LLC\, featuring local beer and wine from McCue&#39\;s Taproom.&nbsp\;<br />\n<br />\nConcert by Nicki Rezac<br />\nMagic Show by David Fox\, Midwest Mentalist<br />\nGames for kids\, cake walks\, bouncy firehouse\, and more!
LOCATION:Nebraska Firefighters Museum & Education Center 2434 E 1st Street Kearney\, NE 68847
UID:e.1404.16633
SEQUENCE:3
DTSTAMP:20260425T213126Z
URL:https://chambermaster.kearneycoc.org/events/details/nebraska-firefights-museum-10-year-anniversary-16633
END:VEVENT

END:VCALENDAR
