BEGIN:VCALENDAR
VERSION:2.0
PRODID:-//ChamberMaster//Event Calendar 2.0//EN
METHOD:PUBLISH
X-PUBLISHED-TTL:P3D
REFRESH-INTERVAL:P3D
CALSCALE:GREGORIAN
BEGIN:VEVENT
DTSTART;VALUE=DATE:20220108
DTEND;VALUE=DATE:20220109
TRANSP:TRANSPARENT
X-MICROSOFT-CDO-ALLDAYEVENT:TRUE
SUMMARY:Nebraska Girls Basketball Showcase
DESCRIPTION:The Nebraska Girls Basketball Showcase is an annual high school basketball event held at the Kearney High School in Kearney\, Nebraska. It is a one day event highlighting 16 teams from across the state and features interclass match-ups not normally seen in regular season play.
X-ALT-DESC;FMTTYPE=text/html:<span class="JsGRdQ">The Nebraska Girls Basketball Showcase is an annual high school basketball event held at the Kearney High School in Kearney\, Nebraska. It is a one day event highlighting 16 teams from across the state and features interclass match-ups not normally seen in regular season play.</span>
LOCATION:Kearney High School\, Kearney\, Nebraska
UID:e.1404.19456
SEQUENCE:3
DTSTAMP:20260423T195642Z
URL:https://chambermaster.kearneycoc.org/events/details/nebraska-girls-basketball-showcase-19456
END:VEVENT

END:VCALENDAR
