BEGIN:VCALENDAR
VERSION:2.0
PRODID:-//ChamberMaster//Event Calendar 2.0//EN
METHOD:PUBLISH
X-PUBLISHED-TTL:P3D
REFRESH-INTERVAL:P3D
CALSCALE:GREGORIAN
BEGIN:VEVENT
DTSTART:20190413T183000Z
DTEND:20190707T220000Z
X-MICROSOFT-CDO-ALLDAYEVENT:FALSE
SUMMARY:Nebraska Now: Anne Burton\, Printmaking
DESCRIPTION:Nebraska Now: Anne Burton\, Printmaking April 13   July 7\, 2019 Lincoln artist Anne Burton explores historical modes of coded communication (war-coding\; braille\; and floriography\, the Victorian-era enthusiasm for sending flowers to convey coded messages) through various printmaking processes. The resulting colorful\, intricate prints contain imagery of circles\, flowers\, and clothing that reflect humanity's search for identity while revealing a universal desire to be heard and understood. Burton is the Art Program Coordinator at Metropolitan Community College in Omaha where she teaches full time. Artist Talk and Reception: Saturday\, April 13   1:30 p.m.
X-ALT-DESC;FMTTYPE=text/html:Nebraska Now: Anne Burton\, Printmaking April 13 &ndash\; July 7\, 2019 Lincoln artist Anne Burton explores historical modes of coded communication (war-coding\; braille\; and floriography\, the Victorian-era enthusiasm for sending flowers to convey coded messages) through various printmaking processes. The resulting colorful\, intricate prints contain imagery of circles\, flowers\, and clothing that reflect humanity&rsquo\;s search for identity while revealing a universal desire to be heard and understood. Burton is the Art Program Coordinator at Metropolitan Community College in Omaha where she teaches full time. Artist Talk and Reception: Saturday\, April 13 &bull\; 1:30 p.m.
LOCATION:Museum of Nebraska Art 2401 Central Avenue Kearney\, NE 68847
UID:e.1404.14435
SEQUENCE:3
DTSTAMP:20260425T231117Z
URL:https://chambermaster.kearneycoc.org/events/details/nebraska-now-anne-burton-printmaking-14435
END:VEVENT

END:VCALENDAR
