BEGIN:VCALENDAR
VERSION:2.0
PRODID:-//ChamberMaster//Event Calendar 2.0//EN
METHOD:PUBLISH
X-PUBLISHED-TTL:P3D
REFRESH-INTERVAL:P3D
CALSCALE:GREGORIAN
BEGIN:VEVENT
DTSTART:20160924T003000Z
DTEND:20161015T170000Z
X-MICROSOFT-CDO-ALLDAYEVENT:FALSE
SUMMARY:Nebraska Pride Fall Show
DESCRIPTION:"The Beat Goes On" Nebraska Pride Chorus annual Sweet Adeline show.
X-ALT-DESC;FMTTYPE=text/html:&quot\;The Beat Goes On&quot\; Nebraska Pride Chorus annual Sweet Adeline show.
LOCATION:Merryman Performing Arts Center
UID:e.1404.9032
SEQUENCE:3
DTSTAMP:20260421T135909Z
URL:https://chambermaster.kearneycoc.org/events/details/nebraska-pride-fall-show-9032
END:VEVENT

END:VCALENDAR
