BEGIN:VCALENDAR
VERSION:2.0
PRODID:-//ChamberMaster//Event Calendar 2.0//EN
METHOD:PUBLISH
X-PUBLISHED-TTL:P3D
REFRESH-INTERVAL:P3D
CALSCALE:GREGORIAN
BEGIN:VEVENT
DTSTART:20140509T220000Z
DTEND:20140510T040000Z
X-MICROSOFT-CDO-ALLDAYEVENT:FALSE
SUMMARY:Nebraska Wine & Jazz Festival
DESCRIPTION:Enjoy outstanding Nebraska jazz musicians\, purchase your favorite wine and accessories at the Wine Store and enjoy delicious foods from local restaurants. The first 3\,000 attendees receive a keepsake souvenir glass. Attendees receive a souvenir glass and tasting tickets to sample Nebraska wines and unique ales from a local microbrewery.
X-ALT-DESC;FMTTYPE=text/html:&#8203\;<span style="color: rgb(51\, 51\, 51)\; font-family: Arial\, Helvetica\, Tahoma\, sans-serif\; font-size: 13px\; line-height: 20px\; background-color: rgb(255\, 255\, 255)\;">Enjoy outstanding Nebraska jazz musicians\, purchase your favorite wine and accessories at the Wine Store and enjoy delicious foods from local restaurants. The first 3\,000 attendees receive a keepsake souvenir glass. Attendees receive a souvenir glass and tasting tickets to sample Nebraska wines and unique ales from a local microbrewery.</span>
LOCATION:Buffalo County Fairgrounds
UID:e.1404.4533
SEQUENCE:3
DTSTAMP:20260423T152009Z
URL:https://chambermaster.kearneycoc.org/events/details/nebraska-wine-jazz-festival-05-09-2014-4533
END:VEVENT

END:VCALENDAR
