BEGIN:VCALENDAR
VERSION:2.0
PRODID:-//ChamberMaster//Event Calendar 2.0//EN
METHOD:PUBLISH
X-PUBLISHED-TTL:P3D
REFRESH-INTERVAL:P3D
CALSCALE:GREGORIAN
BEGIN:VEVENT
DTSTART:20141030T223000Z
DTEND:20141031T003000Z
X-MICROSOFT-CDO-ALLDAYEVENT:FALSE
SUMMARY:NebraskaLand National Bank Trunk-or-Treat
DESCRIPTION:Come trick-or-treat with us!\n\n	Candy provided by local businesses and organizations.\n	Hot dogs and hot cocoa available for a free will donation to the Nebraska Children's Home Society.\n	There will also be Halloween games and prizes.\n\nFor questions\, call (308) 698-2280
X-ALT-DESC;FMTTYPE=text/html:Come trick-or-treat with us!\n<ul>\n	<li>Candy provided by local businesses and organizations.</li>\n	<li>Hot dogs and hot cocoa available for a free will donation to the Nebraska Children&#39\;s Home Society.</li>\n	<li>There will also be Halloween games and prizes.</li>\n</ul>\nFor questions\, call (308) 698-2280
LOCATION:121 W 46th St Kearney\, NE
UID:e.1404.5390
SEQUENCE:3
DTSTAMP:20260423T070214Z
URL:https://chambermaster.kearneycoc.org/events/details/nebraskaland-national-bank-trunk-or-treat-10-30-2014-5390
END:VEVENT

END:VCALENDAR
