BEGIN:VCALENDAR
VERSION:2.0
PRODID:-//ChamberMaster//Event Calendar 2.0//EN
METHOD:PUBLISH
X-PUBLISHED-TTL:P3D
REFRESH-INTERVAL:P3D
CALSCALE:GREGORIAN
BEGIN:VEVENT
DTSTART:20210930T220000Z
DTEND:20210930T230000Z
X-MICROSOFT-CDO-ALLDAYEVENT:FALSE
SUMMARY:Nest:Space - Creator’s Club
DESCRIPTION:If you or your coworkers create things that positively impact others\, we want to meet you! The "Creator's Club" exists to connect Central Nebraska's top local photographers\, videographers\, designers\, content creators\, business creators\, podcasters\, and event planners (to name a handful of creator types)\, all in one spot. Central Nebraska's monthly "Creator's Club" is meeting again on the last Thursday of this month\, September 30th\, from 5 pm to 6 pm\, and you're invited! Who's Invited? You are invited to join us if you love creating things for yourself\, your job\, and others. ***** Creator's Club is an ongoing networking event (the last Thursday of every month)\, located at "Nest:Space - Premier Coworking" in Downtown Kearney! Location here: https://NestSpace.co/Gmaps Beyond meeting\, greeting\, and rubbing shoulders with other imaginative and talented creators in the Central Nebraska area\, maybe some personal and professional relationships will spawn from our meetups (in fact\, some already have). :) There is no cost to join this club! If you know a local creator that deserves to be in the club\, please let them know we're getting together or feel free to bring them! P.S. For those over 21\, you can BYOB!
X-ALT-DESC;FMTTYPE=text/html:If you or your coworkers create things that positively impact others\, we want to meet you! The &quot\;Creator&#39\;s Club&quot\; exists to connect Central Nebraska&#39\;s top local photographers\, videographers\, designers\, content creators\, business creators\, podcasters\, and event planners (to name a handful of creator types)\, all in one spot. Central Nebraska&rsquo\;s monthly &quot\;Creator&#39\;s Club&quot\; is meeting again on the last Thursday of this month\, September 30th\, from 5 pm to 6 pm\, and you&rsquo\;re invited! Who&rsquo\;s Invited? You are invited to join us if you love creating things for yourself\, your job\, and others. ***** Creator&#39\;s Club is an ongoing networking event (the last Thursday of every month)\, located at &quot\;Nest:Space - Premier Coworking&quot\; in Downtown Kearney! Location here: https://NestSpace.co/Gmaps Beyond meeting\, greeting\, and rubbing shoulders with other imaginative and talented creators in the Central Nebraska area\, maybe some personal and professional relationships will spawn from our meetups (in fact\, some already have). :) There is no cost to join this club! If you know a local creator that deserves to be in the club\, please let them know we&rsquo\;re getting together or feel free to bring them! P.S. For those over 21\, you can BYOB!
LOCATION:2224 Central Ave. Kearney\, NE. 68847 Nest:Space - Premier Coworking
UID:e.1404.19424
SEQUENCE:3
DTSTAMP:20260424T021957Z
URL:https://chambermaster.kearneycoc.org/events/details/nest-space-creator-s-club-09-30-2021-19424
END:VEVENT

END:VCALENDAR
