BEGIN:VCALENDAR
VERSION:2.0
PRODID:-//ChamberMaster//Event Calendar 2.0//EN
METHOD:PUBLISH
X-PUBLISHED-TTL:P3D
REFRESH-INTERVAL:P3D
CALSCALE:GREGORIAN
BEGIN:VEVENT
DTSTART:20210826T220000Z
DTEND:20210826T230000Z
X-MICROSOFT-CDO-ALLDAYEVENT:FALSE
SUMMARY:Nest:Space - Creator's Club
DESCRIPTION:On Thursday\, August 26th from 5pm - 6pm\, Nest:Space - Premier Coworking is launching a "Creator's Club"! This is an opportunity for you to connect with other fun\, inspirational\, imaginative\, and talented creators in the Kearney area\, the last Thursday of every month! Who's Invited: - Are you a photographer\, videographer\, designer\, content creator\, business creator\, podcaster\, or event planner? - Do you create things for your job\, or just because you enjoy the love of creation? If you said "yes" to yourself (or out loud) after reading any of the 2 questions above\, then WE WANT YOU to be part of 'Creators Club'!
X-ALT-DESC;FMTTYPE=text/html:On Thursday\, August 26th from 5pm - 6pm\, Nest:Space - Premier Coworking is launching a &ldquo\;Creator&rsquo\;s Club&rdquo\;! This is an opportunity for you to connect with other fun\, inspirational\, imaginative\, and talented creators in the Kearney area\, the last Thursday of every month! Who&rsquo\;s Invited: - Are you a photographer\, videographer\, designer\, content creator\, business creator\, podcaster\, or event planner? - Do you create things for your job\, or just because you enjoy the love of creation? If you said &ldquo\;yes&rdquo\; to yourself (or out loud) after reading any of the 2 questions above\, then WE WANT YOU to be part of &lsquo\;Creators Club&rsquo\;!
LOCATION:Nest:Space - Premier Coworking 2224 Central Ave. Kearney\, NE. 68847
UID:e.1404.19374
SEQUENCE:3
DTSTAMP:20260424T035523Z
URL:https://chambermaster.kearneycoc.org/events/details/nest-space-creator-s-club-19374
END:VEVENT

END:VCALENDAR
