BEGIN:VCALENDAR
VERSION:2.0
PRODID:-//ChamberMaster//Event Calendar 2.0//EN
METHOD:PUBLISH
X-PUBLISHED-TTL:P3D
REFRESH-INTERVAL:P3D
CALSCALE:GREGORIAN
BEGIN:VEVENT
DTSTART:20220217T000000Z
DTEND:20220217T023000Z
X-MICROSOFT-CDO-ALLDAYEVENT:FALSE
SUMMARY:Nest:Space MasterClass - Daniel Pink On Sales & Persuasion (Part. 2)
DESCRIPTION:Learn all things business including leadership\, mindset\, negotiating\, selling\, and more! Every other Wednesday\, Nest:Space in Downtown Kearney will be showing Masterclass lessons for all to see (for free)! All You Need To Know for The Next MasterClass: - Price: FREE - Date: Wednesday\, February 16th - Eat\, Drink\, and Hang Out (BYO food & drinks): 6:00pm - 6:30pm - Screen Time: 6:30pm - 8:30pm-ish - FYI: You didn't need to see Part 1 to understand Part 2 ?? - Alcohol Welcome For 21+ Kearney is full of creative\, hard-working people who have a passion for entrepreneurship/business! These people range from all kinds of ages\, races\, and genders. This is a great chance to meet those who share your goals\, ambitions\, and aspirations! See you there!
X-ALT-DESC;FMTTYPE=text/html:Learn all things business including leadership\, mindset\, negotiating\, selling\, and more! Every other Wednesday\, Nest:Space in Downtown Kearney will be showing Masterclass lessons for all to see (for free)! All You Need To Know for The Next MasterClass: - Price: FREE - Date: Wednesday\, February 16th - Eat\, Drink\, and Hang Out (BYO food &amp\; drinks): 6:00pm - 6:30pm - Screen Time: 6:30pm - 8:30pm-ish - FYI: You didn&#39\;t need to see Part 1 to understand Part 2 ?? - Alcohol Welcome For 21+ Kearney is full of creative\, hard-working people who have a passion for entrepreneurship/business! These people range from all kinds of ages\, races\, and genders. This is a great chance to meet those who share your goals\, ambitions\, and aspirations! See you there!
LOCATION:Nest:Space - Premier Coworking 2224 Central Ave. Kearney\, NE 68847
UID:e.1404.19648
SEQUENCE:3
DTSTAMP:20260423T181111Z
URL:https://chambermaster.kearneycoc.org/events/details/nest-space-masterclass-daniel-pink-on-sales-persuasion-part-2-19648
END:VEVENT

END:VCALENDAR
