BEGIN:VCALENDAR
VERSION:2.0
PRODID:-//ChamberMaster//Event Calendar 2.0//EN
METHOD:PUBLISH
X-PUBLISHED-TTL:P3D
REFRESH-INTERVAL:P3D
CALSCALE:GREGORIAN
BEGIN:VEVENT
DTSTART:20220203T003000Z
DTEND:20220203T023000Z
X-MICROSOFT-CDO-ALLDAYEVENT:FALSE
SUMMARY:Nest:Space Masterclass - Daniel Pink On Sales & Persuasion (PT. 1)
DESCRIPTION:Ladies & gentlemen\, it's time to learn some sh*t! Learn all things business including leadership\, mindset\, negotiating\, selling\, and more! Every other Wednesday\, Nest:Space in Downtown Kearney will be showing Masterclass lessons for all to see (for free)! All You Need To Know: - Price: FREE - Date: Every Other Wednesday (Starting February 2nd) - Time: 6:30pm - 8:30pm-ish - #1 Rule: Bring Your Own Food & Drinks (Alcohol Welcome For 21+) Kearney is full of creative\, hard-working people who have a passion for entrepreneurship/business! These people range from all kinds of ages\, races\, and genders. This is a great chance to meet those who share your goals\, ambitions\, and aspirations! See you there!
X-ALT-DESC;FMTTYPE=text/html:Ladies &amp\; gentlemen\, it&rsquo\;s time to learn some sh*t! Learn all things business including leadership\, mindset\, negotiating\, selling\, and more! Every other Wednesday\, Nest:Space in Downtown Kearney will be showing Masterclass lessons for all to see (for free)! All You Need To Know: - Price: FREE - Date: Every Other Wednesday (Starting February 2nd) - Time: 6:30pm - 8:30pm-ish - #1 Rule: Bring Your Own Food &amp\; Drinks (Alcohol Welcome For 21+) Kearney is full of creative\, hard-working people who have a passion for entrepreneurship/business! These people range from all kinds of ages\, races\, and genders. This is a great chance to meet those who share your goals\, ambitions\, and aspirations! See you there!
LOCATION:Nest:Space - Premier Coworking 2224 Central Ave. Kearney\, NE. 68847
UID:e.1404.19631
SEQUENCE:3
DTSTAMP:20260423T181111Z
URL:https://chambermaster.kearneycoc.org/events/details/nest-space-masterclass-daniel-pink-on-sales-persuasion-pt-1-19631
END:VEVENT

END:VCALENDAR
