BEGIN:VCALENDAR
VERSION:2.0
PRODID:-//ChamberMaster//Event Calendar 2.0//EN
METHOD:PUBLISH
X-PUBLISHED-TTL:P3D
REFRESH-INTERVAL:P3D
CALSCALE:GREGORIAN
BEGIN:VEVENT
DTSTART:20140503T160000Z
DTEND:20140503T190000Z
X-MICROSOFT-CDO-ALLDAYEVENT:FALSE
SUMMARY:NESTFest 2014
DESCRIPTION:Bring the entire family for FREE food\, fun\, and entertainment and talk with professionals from Nebraska's 529 College Savings Plans about simple ways to save for your child's future...and while there\, ask about NESTFest New Account Bonus.
X-ALT-DESC;FMTTYPE=text/html:Bring the entire family for FREE food\, fun\, and entertainment and talk with professionals from Nebraska's 529 College Savings Plans about simple ways to save for your child's future...and while there\, ask about NESTFest New Account Bonus.&nbsp\;
LOCATION:First National Bank 2223 2nd Ave. Kearney\, NE
UID:e.1404.4690
SEQUENCE:3
DTSTAMP:20260423T150437Z
URL:https://chambermaster.kearneycoc.org/events/details/nestfest-2014-05-03-2014-4690
END:VEVENT

END:VCALENDAR
