BEGIN:VCALENDAR
VERSION:2.0
PRODID:-//ChamberMaster//Event Calendar 2.0//EN
METHOD:PUBLISH
X-PUBLISHED-TTL:P3D
REFRESH-INTERVAL:P3D
CALSCALE:GREGORIAN
BEGIN:VEVENT
DTSTART:20211210T140000Z
DTEND:20211210T210000Z
X-MICROSOFT-CDO-ALLDAYEVENT:FALSE
SUMMARY:No School Camp
DESCRIPTION:Schools out? No problem!\n p times="" new="" roman"\;="" font-size:="" medium\;="" box-sizing:="" border-box\;="" margin:="" 0px="" 10px\;="" line-height:="" 1.7\;"="" medium\;"="" style="margin: 0px\; border: 0px\; font-size: 10pt\; font-family: sans-serif\; vertical-align: baseline\; background-color: rgb(255\, 255\, 255)\;" Let your children learn and play at the museum for a day packed full of fun! During camp children will participate in a variety of activities that incorporate art\, STEM\, large motor games\, team building activities\, and free play in the museum.\n\n \nMuseum will follow DHM guidelines that are current at the time camp is held.\n\nChildren will need to bring a sack lunch and water bottle. \n\nSnacks are provided during the day. If your child has any food allergies they are welcome to bring their own food for snack times. \n\nPre-registration is required.
X-ALT-DESC;FMTTYPE=text/html:<p><strong>Schools out? No problem!</strong></p>\n&lt\;p times=&quot\;&quot\; new=&quot\;&quot\; roman&quot\;\;=&quot\;&quot\; font-size:=&quot\;&quot\; medium\;=&quot\;&quot\; box-sizing:=&quot\;&quot\; border-box\;=&quot\;&quot\; margin:=&quot\;&quot\; 0px=&quot\;&quot\; 10px\;=&quot\;&quot\; line-height:=&quot\;&quot\; 1.7\;&quot\;=&quot\;&quot\; medium\;&quot\;=&quot\;&quot\; style=&quot\;margin: 0px\; border: 0px\; font-size: 10pt\; font-family: sans-serif\; vertical-align: baseline\; background-color: rgb(255\, 255\, 255)\;&quot\;&gt\;Let your children learn and play at the museum for a day packed full of&nbsp\;fun! During camp children will participate in a variety of activities that incorporate art\, STEM\, large motor games\, team building activities\, and free play in the museum.<br />\n&nbsp\;\n<p><span style="font-size:10pt">Museum will follow DHM guidelines that are current at the time camp is held.</span></p>\n\n<p><span style="font-size:10pt">Children will need to bring a sack lunch and&nbsp\;water bottle.&nbsp\;</span></p>\n\n<p><span style="font-size:10pt">Snacks are provided during the day. If your child has any food allergies they are welcome to bring their own food for snack times.&nbsp\;</span></p>\n\n<p><span style="font-family:verdana"><strong>Pre-registration is required.</strong></span></p>\n
LOCATION:Kearney Area Children's Museum 5827 4th Avenue\, Kearney\, NE 68845
UID:e.1404.19434
SEQUENCE:3
DTSTAMP:20260423T213607Z
URL:https://chambermaster.kearneycoc.org/events/details/no-school-camp-12-10-2021-19434
END:VEVENT

END:VCALENDAR
