BEGIN:VCALENDAR
VERSION:2.0
PRODID:-//ChamberMaster//Event Calendar 2.0//EN
METHOD:PUBLISH
X-PUBLISHED-TTL:P3D
REFRESH-INTERVAL:P3D
CALSCALE:GREGORIAN
BEGIN:VEVENT
DTSTART:20190116T140000Z
DTEND:20190116T210000Z
X-MICROSOFT-CDO-ALLDAYEVENT:FALSE
SUMMARY:No School Camp
DESCRIPTION:School's out? No problem!\n\nBring your children to the museum for a day packed full of fun! During camp children will participate in a variety of activities that incorporate art\, STEM\, large motor games\, team building activities\, and free play in the museum.\n\n\n\nChildren will need to bring a sack lunch and drink. A morning and afternoon snack will be provided. If your child has any food allergies they are welcome to bring their own food for snack times.
X-ALT-DESC;FMTTYPE=text/html:<span style="background-color:rgb(255\, 255\, 255)\; font-family:verdana\; font-size:small">School&#39\;s out? No problem!<br />\nBring your children to the museum for a day packed full of&nbsp\;fun! During camp children will participate in a variety of activities that incorporate art\, STEM\, large motor games\, team building activities\, and free play in the museum.<br />\n<br />\nChildren will need to bring a sack lunch and drink. A morning and afternoon snack will be provided. If your child has any food allergies they are welcome to bring their own food for snack times.&nbsp\;</span>
LOCATION:Kearney Area Children's Museum Alia Arram Memorial Building 5827 4th Ave\, Kearney\, NE 68845
UID:e.1404.14215
SEQUENCE:3
DTSTAMP:20260423T105827Z
URL:https://chambermaster.kearneycoc.org/events/details/no-school-camp-14215
END:VEVENT

END:VCALENDAR
