BEGIN:VCALENDAR
VERSION:2.0
PRODID:-//ChamberMaster//Event Calendar 2.0//EN
METHOD:PUBLISH
X-PUBLISHED-TTL:P3D
REFRESH-INTERVAL:P3D
CALSCALE:GREGORIAN
BEGIN:VEVENT
DTSTART:20141004T210000Z
DTEND:20141005T040000Z
X-MICROSOFT-CDO-ALLDAYEVENT:FALSE
SUMMARY:Oktoberfest
DESCRIPTION:Kearney Oktoberfest set for October 4th\, 2014 is a new event coming to the Kearney Community. With great German food\, beer\, polka\, and games\, this is one event you will not want to miss. VIP Hour will be from 4-5 and will include sampling\, music and a complimentary mug with VIP admission. VIP tickets are limited\, so get them as soon as you can! Commemorative mugs are $15 and are available while supplies last. To ensure you receive a commemorative mug\, VIP ticket purchases are suggested.\n\n\n\nLocation: Exhibit Hall-Buffalo County Fairgrounds\n\n3807 Ave N\n\n\n\nDate/Time-October 4th\, 2014 from 5-11 PM\n\nVIP Hour from 4-5 \n\nTraditional Beer Tapping around 5:00 PM\n\n\n\nPre-Sale Information\n\n	NO ONE UNDER 21 is allowed to pick up or purchase admission tickets\n	Attendees will be required to show their IDs to pick up the admission tickets AND to gain entrance the night of the event\n	VIP attendee will receive complimentary mug and drink ticket the night of the event. Must attend the event to receive mug and ticket.\n	NO REFUNDS on event tickets\n	Tickets are available at the Kearney Chamber 1007 2nd Ave. To order tickets either stop by or call (308) 237-3101 during business hours 8-5.\n\nDunkelweisen Sponsors:\n\nBig Prairie Homes\, Sam's Club\, Russells TV & Appliance\, Central Hydraulic Systems\, Northwestern Energy\, Kearney Hub\, Moonlight Embroidery\, Diva's Floral and NRG Media Group\n\n\n\nMartzenbier Sponsors:\n\nNelson's Furniture\, FirsTier Bank\, Broadfoot Sand & Gravel\, Kearney Drive-In Storage\, Sixth Street Self Storage\, Vintage Title & Escrow\, Auto Central Inc.\, Cunningham's Journal\, and Ward Laboratories\n\n\n\nPilsner Sponsors:\n\nYounes Hospitality and HeartPrint Home Care\n\n\n\nSober Ride Sponsors:\n\nH & H Distributing and Jacobsen\, Orr\, Lindstrom & Holbrook
X-ALT-DESC;FMTTYPE=text/html:Kearney Oktoberfest set for October 4th\, 2014 is a new event coming to the Kearney Community. With great German food\, beer\, polka\, and games\, this is one event you will not want to miss. VIP Hour will be from 4-5 and will include sampling\, music and a complimentary mug with VIP admission. VIP tickets are limited\, so get them as soon as you can! Commemorative mugs are $15 and are available while supplies last. To ensure you receive a commemorative mug\, VIP ticket purchases are suggested.<br />\n<br />\n<span style="line-height: 20.7999992370605px\;">Location: Exhibit Hall-Buffalo County Fairgrounds</span><br style="line-height: 20.7999992370605px\;" />\n<span style="line-height: 20.7999992370605px\;">3807 Ave N</span><br style="line-height: 20.7999992370605px\;" />\n<br style="line-height: 20.7999992370605px\;" />\n<span style="line-height: 20.7999992370605px\;">Date/Time-October&nbsp\;</span>4th<span style="line-height: 20.7999992370605px\;">\, 2014 from 5-11 PM</span><br style="line-height: 20.7999992370605px\;" />\n<span style="line-height: 20.7999992370605px\;">VIP Hour from 4-5&nbsp\;</span><br style="line-height: 20.7999992370605px\;" />\n<span style="line-height: 20.7999992370605px\;">Traditional Beer Tapping around 5:00 PM</span><br />\n<br />\nPre-Sale Information\n<ul>\n	<li>NO ONE UNDER 21 is allowed to pick up or purchase admission tickets</li>\n	<li>Attendees will be required to show their IDs to pick up the admission tickets <b><u>AND&nbsp\;</u></b>to gain entrance the night of the event</li>\n	<li>VIP attendee will receive complimentary mug and drink ticket the night of the event.&nbsp\;<strong><u>Must attend the event to receive mug and ticket.</u></strong></li>\n	<li>NO REFUNDS on event tickets</li>\n	<li>Tickets are available at the Kearney Chamber 1007 2nd Ave. To order tickets either stop by or call (308) 237-3101 during business hours 8-5.</li>\n</ul>\nDunkelweisen Sponsors:<br />\nBig Prairie Homes\, Sam&#39\;s Club\, Russells TV &amp\; Appliance\, Central Hydraulic Systems\, Northwestern Energy\, Kearney Hub\, Moonlight Embroidery\, Diva&#39\;s Floral and NRG Media Group<br />\n<br />\nMartzenbier&nbsp\;Sponsors:<br />\nNelson&#39\;s Furniture\, FirsTier&nbsp\;Bank\, Broadfoot Sand &amp\; Gravel\, Kearney Drive-In Storage\, Sixth Street Self Storage\, Vintage Title &amp\; Escrow\, Auto Central Inc.\, Cunningham&#39\;s Journal\, and Ward Laboratories<br />\n<br />\nPilsner Sponsors:<br />\nYounes&nbsp\;Hospitality and HeartPrint Home Care<br />\n<br />\nSober Ride Sponsors:<br />\nH &amp\; H Distributing and Jacobsen\, Orr\, Lindstrom &amp\; Holbrook<br />\n<br />\n&nbsp\;
LOCATION:
UID:e.1404.5155
SEQUENCE:3
DTSTAMP:20260423T065537Z
URL:https://chambermaster.kearneycoc.org/events/details/oktoberfest-10-04-2014-5155
END:VEVENT

END:VCALENDAR
