BEGIN:VCALENDAR
VERSION:2.0
PRODID:-//ChamberMaster//Event Calendar 2.0//EN
METHOD:PUBLISH
X-PUBLISHED-TTL:P3D
REFRESH-INTERVAL:P3D
CALSCALE:GREGORIAN
BEGIN:VEVENT
DTSTART:20160918T180000Z
DTEND:20160918T210000Z
X-MICROSOFT-CDO-ALLDAYEVENT:FALSE
SUMMARY:Old Navy's Health and Safety Event
DESCRIPTION:Old Navy's Health and Safety event is this Sunday\, September 18th. Free activities and prizes! Come learn safety and health tips from area businesses like Hy-Vee\, Kearney Police Department\, Cabela's\, The Fire department\, Kearney Family YMCA - Kearney\, The S.A.F.E. Center\, CHI Health Good Samaritan\, K-town Cakes\, NPPD\, Elks Country Club\, Kearney Area Children's Museum and more!
X-ALT-DESC;FMTTYPE=text/html:Old Navy&#39\;s Health and Safety event is this Sunday\, September 18th. Free activities and prizes! Come learn safety and health tips from area businesses like Hy-Vee\, Kearney Police Department\, Cabela&#39\;s\, The Fire department\, Kearney Family YMCA - Kearney\, The S.A.F.E. Center\, CHI Health Good Samaritan\, K-town Cakes\, NPPD\, Elks Country Club\, Kearney Area Children&#39\;s Museum and more!
LOCATION:Hilltop Mall 5011 2nd Ave Kearney\, NE 68847
UID:e.1404.9035
SEQUENCE:3
DTSTAMP:20260421T154343Z
URL:https://chambermaster.kearneycoc.org/events/details/old-navy-s-health-and-safety-event-9035
END:VEVENT

END:VCALENDAR
