BEGIN:VCALENDAR
VERSION:2.0
PRODID:-//ChamberMaster//Event Calendar 2.0//EN
METHOD:PUBLISH
X-PUBLISHED-TTL:P3D
REFRESH-INTERVAL:P3D
CALSCALE:GREGORIAN
BEGIN:VEVENT
DTSTART:20150521T190000Z
DTEND:20150521T210000Z
X-MICROSOFT-CDO-ALLDAYEVENT:FALSE
SUMMARY:Older Americans Month Open House
DESCRIPTION:Join the South Central NE Area Agency on Aging for an open house to recognize Older Americans Month. Come meet our staff and learn about the many services we provide!!
X-ALT-DESC;FMTTYPE=text/html:Join the South Central NE Area Agency on Aging for an open house to recognize Older Americans Month. Come meet our staff and learn about the many services we provide!!
LOCATION:620 E 25th Street Ste 12 Kearney\, NE
UID:e.1404.6232
SEQUENCE:3
DTSTAMP:20260422T182327Z
URL:https://chambermaster.kearneycoc.org/events/details/older-americans-month-open-house-05-21-2015-6232
END:VEVENT

END:VCALENDAR
