BEGIN:VCALENDAR
VERSION:2.0
PRODID:-//ChamberMaster//Event Calendar 2.0//EN
METHOD:PUBLISH
X-PUBLISHED-TTL:P3D
REFRESH-INTERVAL:P3D
CALSCALE:GREGORIAN
BEGIN:VEVENT
DTSTART:20201001T170000Z
DTEND:20201011T170000Z
X-MICROSOFT-CDO-ALLDAYEVENT:FALSE
SUMMARY:On Golden Pond
DESCRIPTION:Presented to great critical and popular acclaim first off the on Broadway\, this touching\, funny\, and warmly perceptive love story of a spirited couple facing their twilight years is a work of rare simplicity and beauty. Ethel and Norman Thayer are returning to their summer home on Golden Pond for the forty-eighth year. Time\, they know\, is against them\, but the years have been good\, and perhaps another summer on Golden Pond awaits. Suitable for older youth and adults.
X-ALT-DESC;FMTTYPE=text/html:Presented to great critical and popular acclaim first off the on Broadway\, this touching\, funny\, and warmly perceptive love story of a spirited couple facing their twilight years is a work of rare simplicity and beauty. Ethel and Norman Thayer are returning to their summer home on Golden Pond for the forty-eighth year. Time\, they know\, is against them\, but the years have been good\, and perhaps another summer on Golden Pond awaits. Suitable for older youth and adults.
LOCATION:Kearney Community Theatre
UID:e.1404.18707
SEQUENCE:3
DTSTAMP:20260424T222806Z
URL:https://chambermaster.kearneycoc.org/events/details/on-golden-pond-18707
END:VEVENT

END:VCALENDAR
