BEGIN:VCALENDAR
VERSION:2.0
PRODID:-//ChamberMaster//Event Calendar 2.0//EN
METHOD:PUBLISH
X-PUBLISHED-TTL:P3D
REFRESH-INTERVAL:P3D
CALSCALE:GREGORIAN
BEGIN:VEVENT
DTSTART:20151028T190000Z
DTEND:20151028T210000Z
X-MICROSOFT-CDO-ALLDAYEVENT:FALSE
SUMMARY:Open House at Nebraska Safety Center
DESCRIPTION:-View the two new training rooms and shop area\n\n-Tours of shop\, training rooms\, motorcycle training\, ATV training\, range\, tower\, driver education exercises\, simulators\,\, and CDL\n\n-Gift bags for attendees\n\n-Desserts and beverages throughout the day\n\n-Door prizes\n\n-Coupons for discounts on future Safety Center courses
X-ALT-DESC;FMTTYPE=text/html:-View the two new training rooms and shop area<br />\n-Tours of shop\, training rooms\, motorcycle training\, ATV training\, range\, tower\, driver education exercises\, simulators\,\, and CDL<br />\n-Gift bags for attendees<br />\n-Desserts and beverages throughout the day<br />\n-Door prizes<br />\n-Coupons for discounts on future Safety Center courses
LOCATION:Nebraska Safety Center Ron and Carol Cope Driving Range 1801 N Railroad St
UID:e.1404.7021
SEQUENCE:3
DTSTAMP:20260422T100914Z
URL:https://chambermaster.kearneycoc.org/events/details/open-house-at-nebraska-safety-center-10-28-2015-7021
END:VEVENT

END:VCALENDAR
