BEGIN:VCALENDAR
VERSION:2.0
PRODID:-//ChamberMaster//Event Calendar 2.0//EN
METHOD:PUBLISH
X-PUBLISHED-TTL:P3D
REFRESH-INTERVAL:P3D
CALSCALE:GREGORIAN
BEGIN:VEVENT
DTSTART:20130731T213000Z
DTEND:20130801T000000Z
X-MICROSOFT-CDO-ALLDAYEVENT:FALSE
SUMMARY:Open house on newer residence projects at UNK
DESCRIPTION:Open house on newer residence projects at UNK.  There is no formal program planned\, but Facilities and Housing directors and staff will be available specifically for media questions at 4:30 p.m. in the large meeting room in CTW\, first floor\, west side.\n\n\n\nKEARNEY   After a year-long renovation at one of University of Nebraska at Kearney's "twin towers\," the public is welcome for a sneak peak to see the updated and newly restored seven-story Centennial Towers West. UNK will open CTW's doors 4:30 to 7 p.m. on July 31 for self-tours. All are welcome.\n\n\n\nAdditionally\, doors to Nester Hall and historic Men's Hall will be open for those who want to tour the renovated National Register art-deco Men's Hall\, and the new Nester-Antelope Hall complex and University View.\n\nWest and East Towers were constructed in 1967 and 1968\, with their names noting Nebraska's state centennial. Each tower has seven floors and holds 383 residents in a configuration unique for its time   suites. Two-person rooms are on either side of a full bathroom. When opened\, the towers were women's halls\, later becoming co-ed. \n\n\n\nThe $6 million renovation project improved safety and comfort in CTW with upgraded state-of-the-art fire alarm systems with voice notification\, fire sprinklers and additional secure entry doors. A new air handling system and heating/ventilation system improves airflow and exhaust\, improving comfort in the building and reducing energy requirements with energy recovery units. \n\n\n\nCTW's aesthetic renovations include new carpet and paint\, new lighting and floor tile. Several additional accessible rooms were added as was an accessible "family" restroom. New wiring and cabling improves the information technology in the building\, and study lounges and computer areas were improved\, even adding a furnished study area to the laundry room so students can study while they watch their laundry. All lounge areas were renovated.\n\nEast Towers was closed at the end of May for its turn in the two-part renovation project. It will reopen\, similar to West Towers\, in fall 2014. Its renovation mirrors West's.\n\n\n\n"We know alumni and others from the community are interested to see what the new\, improved residence hall looks like\, maybe go reminisce about their time there\," said Joseph Oravecz\, dean of Student Affairs. "This is your chance\, before the rooms start filling with new and returning students in a few weeks. Everyone is welcome to come on in."\n\nOravecz said similarly\, visitors on campus might want a peek at the Nester Hall\, opened in 2008\, and Men's Hall\, renovated in 2010. With its beautiful art deco design\, Men's Hall was built as a WPA project in the late Depression as part of Franklin D. Roosevelt's New Deal. It is listed on the National Register of Historic Places. \n\n\n\nMen's Hall houses students in the Honors Program (both men and women). The Antelope/Nester Complex consists of two new housing units along Ninth Avenue that are joined by a walk-through breezeway known as University View\, which also serves as a lounge\, study area and meeting room. These suite-style rooms are the newest on campus and house 160 students in two- and four-person suites with kitchenettes.\n\n\n\nMaps will be available at all three buildings\, and staff and students have volunteered to help during this open house.\n\n-30-
X-ALT-DESC;FMTTYPE=text/html:<span style="font-family:verdana\,sans-serif\;"><span style="font-size:10.0pt\;">Open house on newer residence projects at UNK. &nbsp\;</span></span><span style="font-family:verdana\,sans-serif\;"><span style="font-size:10.0pt\;">There is no formal program planned\, but Facilities and Housing directors and staff will be available specifically for media questions at 4:30 p.m. in the large meeting room in CTW\, first floor\, west side.</span></span><br />\n<br />\n<span style="font-family:times new roman\,serif\;"><span style="font-size:12.0pt\;">KEARNEY &ndash\; After a year-long renovation at one of University of Nebraska at Kearney&rsquo\;s &ldquo\;twin towers\,&rdquo\; the public is welcome for a sneak peak to see the updated and newly restored seven-story Centennial Towers West. UNK will open CTW&rsquo\;s doors 4:30 to 7 p.m. on July 31 for self-tours. All are welcome.</span></span><br />\n<br />\n<span style="font-family:times new roman\,serif\;"><span style="font-size:12.0pt\;">Additionally\, doors to Nester Hall and historic Men&rsquo\;s Hall will be open for those who want to tour the renovated National Register art-deco Men&rsquo\;s Hall\, and the new Nester-Antelope Hall complex and University View.</span></span><br />\n<span style="font-family:times new roman\,serif\;"><span style="font-size:12.0pt\;">West and East Towers were constructed in 1967 and 1968\, with their names noting Nebraska&rsquo\;s state centennial. Each tower has seven floors and holds 383 residents in a configuration unique for its time &ndash\; suites. Two-person rooms are on either side of a full bathroom. When opened\, the towers were women&rsquo\;s halls\, later becoming co-ed. </span></span><br />\n<br />\n<span style="font-family:times new roman\,serif\;">The $6 million renovation project improved safety and comfort in CTW with upgraded state-of-the-art fire alarm systems with voice notification\, fire sprinklers and additional secure entry doors. A new air handling system and heating/ventilation system improves airflow and exhaust\, improving comfort in the building and reducing energy requirements with energy recovery units. </span><br />\n<br />\n<span style="font-family:times new roman\,serif\;"><span style="font-size:12.0pt\;">CTW&rsquo\;s aesthetic renovations include new carpet and paint\, new lighting and floor tile. Several additional accessible rooms were added as was an accessible &ldquo\;family&rdquo\; restroom. New wiring and cabling improves the information technology in the building\, and study lounges and computer areas were improved\, even adding a furnished study area to the laundry room so students can study while they watch their laundry. All lounge areas were renovated.</span></span><br />\n<span style="font-family:times new roman\,serif\;"><span style="font-size:12.0pt\;">East Towers was closed at the end of May for its turn in the two-part renovation project. It will reopen\, similar to West Towers\, in fall 2014. Its renovation mirrors West&rsquo\;s.</span></span><br />\n<br />\n<span style="font-family:times new roman\,serif\;">&ldquo\;We know alumni and others from the community are interested to see what the new\, improved residence hall looks like\, maybe go reminisce about their time there\,&rdquo\; said Joseph Oravecz\, dean of Student Affairs. &ldquo\;This is your chance\, before the rooms start filling with new and returning students in a few weeks. Everyone is welcome to come on in.&rdquo\;</span><br />\n<span style="font-family:times new roman\,serif\;"><span style="font-size:12.0pt\;">Oravecz said similarly\, visitors on campus might want a peek at the Nester Hall\, opened in 2008\, and Men&rsquo\;s Hall\, renovated in 2010. With its beautiful art deco design\, Men&rsquo\;s Hall was built as a WPA project in the late Depression as part of Franklin D. Roosevelt&rsquo\;s New Deal. It is listed on the National Register of Historic Places. </span></span><br />\n<br />\n<span style="font-family:times new roman\,serif\;"><span style="font-size:12.0pt\;">Men&rsquo\;s Hall houses students in the Honors Program (both men and women). The Antelope/Nester Complex consists of two new housing units along Ninth Avenue that are joined by a walk-through breezeway known as University View\, which also serves as a lounge\, study area and meeting room. These suite-style rooms are the newest on campus and house 160 students in two- and four-person suites with kitchenettes.</span></span><br />\n<br />\n<span style="font-family:times new roman\,serif\;">Maps will be available at all three buildings\, and staff and students have volunteered to help during this open house.</span><br />\n<span style="font-family:times new roman\,serif\;"><span style="font-size:12.0pt\;">-30-</span></span><br />\n&nbsp\;<br />\n&nbsp\;<br />\n<br />\n
LOCATION:Centennial Towers West\, Men's Hall\, Nester Hall\, UNK Campus
UID:e.1404.3269
SEQUENCE:3
DTSTAMP:20260424T081412Z
URL:https://chambermaster.kearneycoc.org/events/details/open-house-on-newer-residence-projects-at-unk-07-31-2013-3269
END:VEVENT

END:VCALENDAR
