BEGIN:VCALENDAR
VERSION:2.0
PRODID:-//ChamberMaster//Event Calendar 2.0//EN
METHOD:PUBLISH
X-PUBLISHED-TTL:P3D
REFRESH-INTERVAL:P3D
CALSCALE:GREGORIAN
BEGIN:VEVENT
DTSTART:20210408T220000Z
DTEND:20210409T010000Z
X-MICROSOFT-CDO-ALLDAYEVENT:FALSE
SUMMARY:OPEN HOUSE The World Theatre
DESCRIPTION:JOIN US AT THE WORLD THEATER OPEN HOUSE Thursday\, April 8 5:00 -8:00 PM Come to say thanks to Bryce for his dedication over the last 9 years.
X-ALT-DESC;FMTTYPE=text/html:JOIN US AT THE WORLD THEATER OPEN HOUSE Thursday\, April 8 5:00 -8:00 PM Come to say thanks to Bryce for his dedication over the last 9 years.
LOCATION:The World Theatre
UID:e.1404.19264
SEQUENCE:3
DTSTAMP:20260424T124618Z
URL:https://chambermaster.kearneycoc.org/events/details/open-house-the-world-theatre-19264
END:VEVENT

END:VCALENDAR
