BEGIN:VCALENDAR
VERSION:2.0
PRODID:-//ChamberMaster//Event Calendar 2.0//EN
METHOD:PUBLISH
X-PUBLISHED-TTL:P3D
REFRESH-INTERVAL:P3D
CALSCALE:GREGORIAN
BEGIN:VEVENT
DTSTART:20150511T170000Z
DTEND:20150511T180000Z
X-MICROSOFT-CDO-ALLDAYEVENT:FALSE
SUMMARY:OpenSky Policy Institute Presentation
DESCRIPTION:Renee Fry\, executive director of the OpenSky Policy Institute\, will discuss the tax\, budget and school finance debate that is currently underway in the Nebraska Legislature. OpenSky Policy Institute is a non-partisan\, non-profit think tank in Lincoln that researches and analyzes state fiscal policy. OpenSky is a leading voice in the state's fiscal policy discussion.  \nl
X-ALT-DESC;FMTTYPE=text/html:<p><span style="font-size:10.0pt\;font-family:&quot\;Arial&quot\;\,sans-serif">Renee&nbsp\;Fry\, executive director of the OpenSky Policy Institute\, will discuss the tax\, budget and school finance debate that is currently underway in the Nebraska Legislature. OpenSky Policy Institute is a non-partisan\, non-profit think tank in Lincoln that researches and analyzes state fiscal policy. OpenSky is a leading voice in the state&rsquo\;s fiscal policy discussion.&nbsp\;<span style="color:#161616\;\nbackground:#FBFBFB">&nbsp\;</span></span><o:p></o:p></p>\nl
LOCATION:Kearney Area Chamber of Commerce 1007 Second Avenue Kearney\, NE 68847
UID:e.1404.6227
SEQUENCE:3
DTSTAMP:20260422T182145Z
URL:https://chambermaster.kearneycoc.org/events/details/opensky-policy-institute-presentation-05-11-2015-6227
END:VEVENT

END:VCALENDAR
