BEGIN:VCALENDAR
VERSION:2.0
PRODID:-//ChamberMaster//Event Calendar 2.0//EN
METHOD:PUBLISH
X-PUBLISHED-TTL:P3D
REFRESH-INTERVAL:P3D
CALSCALE:GREGORIAN
BEGIN:VEVENT
DTSTART:20160427T170000Z
DTEND:20160427T191500Z
X-MICROSOFT-CDO-ALLDAYEVENT:FALSE
SUMMARY:Oral Cancer Awareness Screening
DESCRIPTION:Eagle Dental is partnering with HyVee to bring awareness to Oral Cancer and Oral Health.  Just like fitness and nutrition\, good oral health is pivotal for overall health. The Eagle Dental staff with be offering their knowledge and time to speak with anyone curious about Oral Cancer symptoms and causes. The test is quick\, painless & FREE.  This is a great opportunity for those who haven't been to the dentist in a while\, to get comfortable with our staff and learn more about Oral Health.
X-ALT-DESC;FMTTYPE=text/html:<p style="margin: 0in 0in 6.75pt\; line-height: 13.5pt\; background-image: initial\; background-attachment: initial\; background-size: initial\; background-origin: initial\; background-clip: initial\; background-position: initial\; background-repeat: initial\;"><span style="font-size:13.5pt\;\nfont-family:&quot\;Verdana&quot\;\,sans-serif\;color:black">Eagle Dental is partnering with HyVee to bring awareness to Oral Cancer and Oral Health.&nbsp\; Just like fitness and nutrition\, good oral health is pivotal for overall health. The Eagle Dental staff with be offering their knowledge and time to speak with anyone curious about Oral Cancer symptoms and causes. The test is quick\, painless &amp\; FREE.&nbsp\; This is a great opportunity for those who haven&#39\;t been to the dentist in a while\, to get comfortable with our staff and learn more about Oral Health.<o:p></o:p></span></p>\n
LOCATION:HyVee 5212 3rd Avenue (by pharmacy) Kearney\, NE
UID:e.1404.8728
SEQUENCE:3
DTSTAMP:20260421T235715Z
URL:https://chambermaster.kearneycoc.org/events/details/oral-cancer-awareness-screening-04-27-2016-8728
END:VEVENT

END:VCALENDAR
