BEGIN:VCALENDAR
VERSION:2.0
PRODID:-//ChamberMaster//Event Calendar 2.0//EN
METHOD:PUBLISH
X-PUBLISHED-TTL:P3D
REFRESH-INTERVAL:P3D
CALSCALE:GREGORIAN
BEGIN:VEVENT
DTSTART:20140408T230000Z
DTEND:20140409T010000Z
X-MICROSOFT-CDO-ALLDAYEVENT:FALSE
SUMMARY:Overture- Crane River Theater
DESCRIPTION:Overture- A Celebratory Dinner to Benefit Our Upcoming 2014 Season.\n\n$45.00 per plate | $450.00 per table (10 plates)\n\n6:00 PM - Social \n\n6:30 PM - Dinner and Entertainment\n\n(Cash Bar and Business Formal Attire)\n\nPlease RSVP to Crane River Theater by Tuesday April 1st\n\n308-627-5796 or CraneRiverTheater.org
X-ALT-DESC;FMTTYPE=text/html:Overture- A Celebratory Dinner to Benefit Our Upcoming 2014 Season.<br />\n$45.00 per plate | $450.00 per table (10 plates)<br />\n6:00 PM - Social&nbsp\;<br />\n6:30 PM - Dinner and Entertainment<br />\n(Cash Bar and Business Formal Attire)<br />\nPlease RSVP to Crane River Theater by Tuesday April 1st<br />\n308-627-5796 or CraneRiverTheater.org
LOCATION:Younes Conference Center | 416 Talmadge Rd
UID:e.1404.4672
SEQUENCE:3
DTSTAMP:20260423T163234Z
URL:https://chambermaster.kearneycoc.org/events/details/overture-crane-river-theater-04-08-2014-4672
END:VEVENT

END:VCALENDAR
