BEGIN:VCALENDAR
VERSION:2.0
PRODID:-//ChamberMaster//Event Calendar 2.0//EN
METHOD:PUBLISH
X-PUBLISHED-TTL:P3D
REFRESH-INTERVAL:P3D
CALSCALE:GREGORIAN
BEGIN:VEVENT
DTSTART:20121019T000000Z
DTEND:20121019T020000Z
X-MICROSOFT-CDO-ALLDAYEVENT:FALSE
SUMMARY:Passing Zone - Gravity Attacks!
DESCRIPTION:Comedy juggling and dangerous stunts ensure an unforagettable and hilarious experience!
X-ALT-DESC;FMTTYPE=text/html:Comedy juggling and dangerous stunts ensure an unforagettable and hilarious experience!
LOCATION:Merryman Performing Arts Center 225 W. 22nd\, Kearney NE 68845
UID:e.1404.1950
SEQUENCE:3
DTSTAMP:20260425T001845Z
URL:https://chambermaster.kearneycoc.org/events/details/passing-zone-gravity-attacks-10-18-2012-1950
END:VEVENT

END:VCALENDAR
