BEGIN:VCALENDAR
VERSION:2.0
PRODID:-//ChamberMaster//Event Calendar 2.0//EN
METHOD:PUBLISH
X-PUBLISHED-TTL:P3D
REFRESH-INTERVAL:P3D
CALSCALE:GREGORIAN
BEGIN:VEVENT
DTSTART:20130110T180000Z
DTEND:20130110T190000Z
X-MICROSOFT-CDO-ALLDAYEVENT:FALSE
SUMMARY:Patient Protection & Affordable Care Act
DESCRIPTION:Patient Protection & Affordable Care Act \n\n	Learn the rules and potential implications the new healthcare laws \n\n	will have on you & your business\n\n	\n		Lunch and Learn\n	\n		Thursday\, January 10\n	\n		12:00 -1:00 p.m.\n	\n		Question & answer session to follow\n	\n		Location - Kearney Library\n	\n		2020 1st Ave.\n	\n		No Charge - Lunch is provided\n\n\n	Presented By:  Bill Barclay\; manager of Marcotte's Group Benefits department and Vice President with the Agency\n\n	 \n\n	 \n\n	You will hear the latest news and gain valuable insights into the Patient Protection & Affordable Care Act.  Bill will help you better understand the rules and potential implications for you and your business.\n\n	 \n\n	Bill Barclay is the manager of Marcotte's Group Benefits department and Vice President with the Agency. Bill is one of the owners of the agency and has been active on the management team for over ten years. He works as a liaison between the insurance companies and Marcotte's Account Executives and customers. Bill is active in the design\, pricing and implementation of insurance and comprehensive benefit programs. He has a Bachelor of Science in Business Administration degree with an emphasis in marketing  from Loras College in Dubuque\, Iowa. Prior to joining Marcotte\, Bill was a producer with National Insurance Agency for four years and a marketing representative with Travelers for over two years prior to that. He is an active member of the National Association of Health Underwriters (NAHU) and has earned his LUTCF (Life Underwriters Training Council Fellow) designation.
X-ALT-DESC;FMTTYPE=text/html:<span style="font-size: 16px\;"><strong><span style="text-decoration: underline\;">Patient Protection &amp\; Affordable Care Act </span></strong></span>\n<p style="margin-top: 0px\; font-family: Arial\,Helvetica\,sans-serif\; margin-bottom: 0px\; font-size: 11pt\; text-align: left\;">\n	<em>Learn the rules and potential implications the new healthcare laws&nbsp\;</em></p>\n<p style="margin-top: 0px\; font-family: Arial\,Helvetica\,sans-serif\; margin-bottom: 0px\; font-size: 11pt\; text-align: left\;">\n	<em>will have on you &amp\; your business</em></p>\n<ul>\n	<li>\n		Lunch and Learn</li>\n	<li>\n		Thursday\, January 10</li>\n	<li>\n		12:00 -1:00 p.m.</li>\n	<li>\n		<em>Question &amp\; answer session to follow</em></li>\n	<li>\n		Location - Kearney Library</li>\n	<li>\n		2020 1st Ave.</li>\n	<li>\n		No Charge - Lunch is provided</li>\n</ul>\n<p style="margin-top: 0px\; font-family: Arial\,Helvetica\,sans-serif\; margin-bottom: 0px\; font-size: 12pt\; text-align: left\;">\n	Presented By:&nbsp\;&nbsp\;Bill Barclay\; manager of Marcotte&#39\;s Group Benefits department and Vice President with the Agency</p>\n<p style="margin-top: 0px\; font-family: Arial\,Helvetica\,sans-serif\; margin-bottom: 0px\; font-size: 12pt\; text-align: center\;">\n	&nbsp\;</p>\n<p style="margin-top: 0px\; font-family: Arial\,Helvetica\,sans-serif\; margin-bottom: 0px\; font-size: 11pt\; text-align: center\;">\n	&nbsp\;</p>\n<p style="margin-top: 0px\; font-family: Arial\,Helvetica\,sans-serif\; margin-bottom: 0px\; font-size: 11pt\; text-align: left\;">\n	<strong>You will hear the latest news and gain valuable insights into the Patient Protection &amp\; Affordable Care Act.&nbsp\; Bill will help you better understand the rules and potential implications for you and your business.</strong></p>\n<p style="margin-top: 0px\; font-family: Arial\,Helvetica\,sans-serif\; margin-bottom: 0px\; font-size: 11pt\; text-align: left\;">\n	&nbsp\;</p>\n<p style="margin-top: 0px\; font-family: Arial\,Helvetica\,sans-serif\; margin-bottom: 0px\; font-size: 11pt\; text-align: left\;">\n	Bill Barclay is the manager of Marcotte&#39\;s Group Benefits department and Vice President with the Agency. Bill is one of the owners of the agency and has been active on the management team for over ten years. He works as a liaison between the insurance companies and Marcotte&#39\;s Account Executives and customers. Bill is active in the design\, pricing and implementation of insurance and comprehensive benefit programs. He&nbsp\;has a Bachelor of&nbsp\;Science in Business Administration degree with an emphasis in marketing&nbsp\; from Loras College in Dubuque\, Iowa. Prior to joining Marcotte\, Bill was a producer with National Insurance Agency for four years and a marketing representative with Travelers for over two years prior to that. He is an active member of the National Association of Health Underwriters (NAHU) and has earned his LUTCF (Life Underwriters Training Council Fellow) designation.</p>\n
LOCATION:
UID:e.1404.2215
SEQUENCE:3
DTSTAMP:20260424T191455Z
URL:https://chambermaster.kearneycoc.org/events/details/patient-protection-affordable-care-act-01-10-2013-2215
END:VEVENT

END:VCALENDAR
