BEGIN:VCALENDAR
VERSION:2.0
PRODID:-//ChamberMaster//Event Calendar 2.0//EN
METHOD:PUBLISH
X-PUBLISHED-TTL:P3D
REFRESH-INTERVAL:P3D
CALSCALE:GREGORIAN
BEGIN:VEVENT
DTSTART:20160910T140000Z
DTEND:20160910T170000Z
X-MICROSOFT-CDO-ALLDAYEVENT:FALSE
SUMMARY:Paws & Pals Wag & Walk
DESCRIPTION:Kearney Area Animal Shelter's annual Paws & Pals Wag & Walk....Bring your furry friends! 2mile walk around the lake\, Bouncy house\, kids face painting\, dog wash-freewill donation\, photo booth\, food\, door prizes\, raffle drawing. Early registration fee is $20-Adult $12-Children until Monday August 29th. After August 29th and the day of the walk fees are $25-Adult $15-Children. Registration begins at 9:00am. All proceeds benefit the Kearney Area Animal Shelter. Raffle prizes include Husker football tickets\, iPad Mini\, 50" Flat Screen TV\, Storm Tickets\, Art Print\, Amazon gift card\, Skeeter Barnes gift card\, Buckle packages\, and more! Tickets: $5 each or 5 for $20
X-ALT-DESC;FMTTYPE=text/html:Kearney Area Animal Shelter&#39\;s annual Paws &amp\; Pals Wag &amp\; Walk....Bring your furry friends! 2mile walk around the lake\, Bouncy house\, kids face painting\, dog wash-freewill donation\, photo booth\, food\, door prizes\, raffle drawing. Early registration fee is $20-Adult $12-Children until Monday August 29th. After August 29th and the day of the walk fees are $25-Adult $15-Children. Registration begins at 9:00am. All proceeds benefit the Kearney Area Animal Shelter. Raffle prizes include Husker football tickets\, iPad Mini\, 50&quot\; Flat Screen TV\, Storm Tickets\, Art Print\, Amazon gift card\, Skeeter Barnes gift card\, Buckle packages\, and more! Tickets: $5 each or 5 for $20
LOCATION:Yanney Heritage Park - ERC Building 2020 W. 11th St.
UID:e.1404.8987
SEQUENCE:3
DTSTAMP:20260421T153034Z
URL:https://chambermaster.kearneycoc.org/events/details/paws-pals-wag-walk-8987
END:VEVENT

END:VCALENDAR
