BEGIN:VCALENDAR
VERSION:2.0
PRODID:-//ChamberMaster//Event Calendar 2.0//EN
METHOD:PUBLISH
X-PUBLISHED-TTL:P3D
REFRESH-INTERVAL:P3D
CALSCALE:GREGORIAN
BEGIN:VEVENT
DTSTART:20151218T220000Z
DTEND:20151219T000000Z
X-MICROSOFT-CDO-ALLDAYEVENT:FALSE
SUMMARY:Pet Photos with Santa
DESCRIPTION:Get your pet's picture with Santa for a memorable holiday! Located in center court at Hilltop Mall. Santa photos run through the 23rd\, and pet photos are available only on Friday the 18th.
X-ALT-DESC;FMTTYPE=text/html:Get your pet&#39\;s picture with Santa for a memorable holiday! Located in center court at Hilltop Mall. Santa photos run through the 23rd\, and pet photos are available only on Friday the 18th.
LOCATION:Hilltop Mall
UID:e.1404.7242
SEQUENCE:3
DTSTAMP:20260422T065239Z
URL:https://chambermaster.kearneycoc.org/events/details/pet-photos-with-santa-12-18-2015-7242
END:VEVENT

END:VCALENDAR
