BEGIN:VCALENDAR
VERSION:2.0
PRODID:-//ChamberMaster//Event Calendar 2.0//EN
METHOD:PUBLISH
X-PUBLISHED-TTL:P3D
REFRESH-INTERVAL:P3D
CALSCALE:GREGORIAN
BEGIN:VEVENT
DTSTART:20190621T130000Z
DTEND:20190621T200000Z
X-MICROSOFT-CDO-ALLDAYEVENT:FALSE
SUMMARY:Picasso & Friends Summer Camp
DESCRIPTION:Children are invited to explore their creativity and self-expression while learning about a variety of art styles and famous artists! We will use different mediums and supplies to complete art pieces they can take home and share with others.\n\nAges 4-10\n\n\n\nActivities will include:\n\n1. Exploring with watercolors\n\n2. Painting with Paint Balloons\n\n3. Canvas painting using different tools and techniques\n\n4. Clay creations\n\n\n\nChildren need to bring a sack lunch.
X-ALT-DESC;FMTTYPE=text/html:Children are invited to explore their creativity and self-expression while learning about a variety of art styles and famous artists! We will use different mediums and supplies to complete art pieces they can take home and share with others.<br />\nAges 4-10<br />\n<br />\nActivities will include:<br />\n1. Exploring with watercolors<br />\n2. Painting with Paint Balloons<br />\n3. Canvas painting using different tools and techniques<br />\n4. Clay creations<br />\n<br />\n<strong><span style="color:#FF0000">Children need to bring a sack lunch.</span></strong>
LOCATION:Kearney Area Children's Museum The Alia Arram Memorial Building\, 5827 4th Ave\, Kearney\, NE 68845
UID:e.1404.16541
SEQUENCE:3
DTSTAMP:20260426T004011Z
URL:https://chambermaster.kearneycoc.org/events/details/picasso-friends-summer-camp-16541
END:VEVENT

END:VCALENDAR
