BEGIN:VCALENDAR
VERSION:2.0
PRODID:-//ChamberMaster//Event Calendar 2.0//EN
METHOD:PUBLISH
X-PUBLISHED-TTL:P3D
REFRESH-INTERVAL:P3D
CALSCALE:GREGORIAN
BEGIN:VEVENT
DTSTART:20190807T223000Z
DTEND:20190807T230000Z
X-MICROSOFT-CDO-ALLDAYEVENT:FALSE
SUMMARY:Pioneer Park Ribbon Cutting Ceremony
DESCRIPTION:Join the City of Kearney for a Ribbon Cutting ceremony for Pioneer Park. Treats and refreshments will be served to celebrate the improvements to the park.
X-ALT-DESC;FMTTYPE=text/html:Join the City of Kearney for a Ribbon Cutting ceremony for Pioneer Park. Treats and refreshments will be served to celebrate the improvements to the park.&nbsp\;
LOCATION:Pioneer Park 700 West 21st Kearney NE
UID:e.1404.16599
SEQUENCE:3
DTSTAMP:20260425T213257Z
URL:https://chambermaster.kearneycoc.org/events/details/pioneer-park-ribbon-cutting-ceremony-16599
END:VEVENT

END:VCALENDAR
