BEGIN:VCALENDAR
VERSION:2.0
PRODID:-//ChamberMaster//Event Calendar 2.0//EN
METHOD:PUBLISH
X-PUBLISHED-TTL:P3D
REFRESH-INTERVAL:P3D
CALSCALE:GREGORIAN
BEGIN:VEVENT
DTSTART:20130409T230000Z
DTEND:20130410T010000Z
X-MICROSOFT-CDO-ALLDAYEVENT:FALSE
SUMMARY:Planting Seeds of Hope Gala Event
DESCRIPTION:The 2nd Annual Planting Seeds of Hope Gala Event will be held at the Younes Center on April 9th. Crossroads Center opened its doors in Kearney in February of 2012 and is now serving almost 40 people a day. This banquet is a celebration of the previous years achievements but also a way to raise funds to continue the work we are doing. Come and help us create a place of safety that gives hope to the homeless.
X-ALT-DESC;FMTTYPE=text/html:The 2nd Annual Planting Seeds of Hope Gala Event will be held at the Younes Center on April 9th. Crossroads Center opened its doors in Kearney in February of 2012 and is now serving almost 40 people a day. This banquet is a celebration of the previous years achievements but also a way to raise funds to continue the work we are doing. Come and help us create a place of safety that gives hope to the homeless.&nbsp\;
LOCATION:Younes Convention Center 416 Talmadge Rd. Kearney\, NE 68845
UID:e.1404.2232
SEQUENCE:3
DTSTAMP:20260424T142528Z
URL:https://chambermaster.kearneycoc.org/events/details/planting-seeds-of-hope-gala-event-04-09-2013-2232
END:VEVENT

END:VCALENDAR
