BEGIN:VCALENDAR
VERSION:2.0
PRODID:-//ChamberMaster//Event Calendar 2.0//EN
METHOD:PUBLISH
X-PUBLISHED-TTL:P3D
REFRESH-INTERVAL:P3D
CALSCALE:GREGORIAN
BEGIN:VEVENT
DTSTART:20200708T160000Z
DTEND:20200708T170000Z
X-MICROSOFT-CDO-ALLDAYEVENT:FALSE
SUMMARY:Platte Institute Webinar: Back in Session with Revenue Committee Chair Sen. Lou Ann Linehan
DESCRIPTION:Join the Platte Institute Webinar on Zoom as Revenue Committee Chair and Sen. Lou Ann Linehan discusses the Nebraska tax policy and revenue landscape as the Legislature returns following an emergency suspension due to COVID-19. All Platte Institute Webinars are free to attend include Q&A. Registration required. Webinar recordings can be found at PlatteInstitute.org/Podcasts.
X-ALT-DESC;FMTTYPE=text/html:Join the Platte Institute Webinar on Zoom as Revenue Committee Chair and Sen. Lou Ann Linehan discusses the Nebraska tax policy and revenue landscape as the Legislature returns following an emergency suspension due to COVID-19. All Platte Institute Webinars are free to attend include Q&amp\;A. Registration required. Webinar recordings can be found at PlatteInstitute.org/Podcasts.
LOCATION:Online through Zoom Webinars
UID:e.1404.18653
SEQUENCE:3
DTSTAMP:20260425T035904Z
URL:https://chambermaster.kearneycoc.org/events/details/platte-institute-webinar-back-in-session-with-revenue-committee-chair-sen-lou-ann-linehan-18653
END:VEVENT

END:VCALENDAR
