BEGIN:VCALENDAR
VERSION:2.0
PRODID:-//ChamberMaster//Event Calendar 2.0//EN
METHOD:PUBLISH
X-PUBLISHED-TTL:P3D
REFRESH-INTERVAL:P3D
CALSCALE:GREGORIAN
BEGIN:VEVENT
DTSTART:20160814T030000Z
DTEND:20160814T230000Z
X-MICROSOFT-CDO-ALLDAYEVENT:FALSE
SUMMARY:Prairie Hills Golf Club 2 Day Calcutta Tournament
DESCRIPTION:10am shotgun start both days\n\n4 person scramble $110/person\n\nIncludes golf\, cart\, and steak dinner after 1st round
X-ALT-DESC;FMTTYPE=text/html:10am shotgun start both days<br />\n4 person scramble $110/person<br />\nIncludes golf\, cart\, and steak dinner after 1st round
LOCATION:Prairie Hills Golf Club 21400 Clubhouse Dr. Pleasanton\, NE 68866
UID:e.1404.8954
SEQUENCE:3
DTSTAMP:20260421T172129Z
URL:https://chambermaster.kearneycoc.org/events/details/prairie-hills-golf-club-2-day-calcutta-tournament-08-13-2016-8954
END:VEVENT

END:VCALENDAR
